BEGIN:VCALENDAR
VERSION:2.0
PRODID:-//ChamberMaster//Event Calendar 2.0//EN
METHOD:PUBLISH
X-PUBLISHED-TTL:P3D
REFRESH-INTERVAL:P3D
CALSCALE:GREGORIAN
BEGIN:VEVENT
DTSTART:20231223T170000Z
DTEND:20231223T220000Z
X-MICROSOFT-CDO-ALLDAYEVENT:FALSE
SUMMARY:Sample Saturdays: Free Wine Tasting with Vinny DiPino of Wide Roots!
DESCRIPTION:Sample Saturdays: Free Wine Tasting with Vinny DiPino of Wide Roots!\nExpand your palate! Free wine tasting with our Italian Wine Experts as we introduce to you to new Italian wines!
X-ALT-DESC;FMTTYPE=text/html:<h1 style="text-align:center">Sample Saturdays: Free Wine Tasting with Vinny DiPino of Wide Roots!</h1>\n<span style="color:rgb(0\, 0\, 0)\; font-family:avenir-lt-w01_35-light1475496\,avenir-lt-w05_35-light\,sans-serif\; font-size:16px">Expand your palate! Free wine tasting with our Italian Wine Experts as we introduce to you to new Italian wines!</span>
LOCATION:Simpatico Italy's Finest 104 Railroad Ave\, St Michaels\, MD 21663
UID:e.212.24616
SEQUENCE:3
DTSTAMP:20260422T135458Z
URL:http://historic.stmichaelsmd.org/events/details/sample-saturdays-free-wine-tasting-with-vinny-dipino-of-wide-roots-24616
END:VEVENT

END:VCALENDAR
