BEGIN:VCALENDAR
VERSION:2.0
PRODID:-//ChamberMaster//Event Calendar 2.0//EN
METHOD:PUBLISH
X-PUBLISHED-TTL:P3D
REFRESH-INTERVAL:P3D
CALSCALE:GREGORIAN
BEGIN:VEVENT
DTSTART:20240629T160000Z
DTEND:20240629T210000Z
X-MICROSOFT-CDO-ALLDAYEVENT:FALSE
SUMMARY:Sample Saturdays: Free Wine Tasting with Cristina Doria of Doria Wines!
DESCRIPTION:Sample Saturdays: Free Wine Tasting with Cristina Doria of Doria Wines\nExpand your palate! Free wine tasting with our Italian Wine Experts as we introduce to you to new Italian wines!
X-ALT-DESC;FMTTYPE=text/html:<h1 style="text-align:center">Sample Saturdays: Free Wine Tasting with Cristina Doria of Doria Wines</h1>\n<span style="color:rgb(0\, 0\, 0)\; font-family:avenir-lt-w01_35-light1475496\,avenir-lt-w05_35-light\,sans-serif\; font-size:16px"><span style="color:rgb(0\, 0\, 0)\; font-family:avenir-lt-w01_35-light1475496\,avenir-lt-w05_35-light\,sans-serif\; font-size:16px">Expand your palate! Free wine tasting with our Italian Wine Experts as we introduce to you to new Italian wines!&nbsp\;</span></span><br />\n&nbsp\;
LOCATION:Simpatico 104 Railroad Ave\, St Michaels\, MD 21663
UID:e.212.25914
SEQUENCE:3
DTSTAMP:20260422T042106Z
URL:http://historic.stmichaelsmd.org/events/details/sample-saturdays-free-wine-tasting-with-vincenzo-enzo-schiano-of-impero-wines-and-lunch-in-our-trattoria-simpatico-06-29-2024-25914
END:VEVENT

END:VCALENDAR
