BEGIN:VCALENDAR
VERSION:2.0
PRODID:-//ChamberMaster//Event Calendar 2.0//EN
METHOD:PUBLISH
X-PUBLISHED-TTL:P3D
REFRESH-INTERVAL:P3D
CALSCALE:GREGORIAN
BEGIN:VEVENT
DTSTART:20240413T160000Z
DTEND:20240413T210000Z
X-MICROSOFT-CDO-ALLDAYEVENT:FALSE
SUMMARY:Sample Saturdays: Free Wine Tasting with Our Resident Oenophile Linda Frey! AND Pop Up Restaurant in our Mangia Building!
DESCRIPTION:Sample Saturdays: Free Wine Tasting with Our Resident Oenophile Linda Frey AND Pop Up Restaurant in our Mangia Building!\nExpand your palate! Free wine tasting with our Italian Wine Experts as we introduce to you to new Italian wines! Chef will be offering some delicious meals with glasses of wine for purchase in our 104 Railroad Building 12-4pm. Menu here:\n\nhttps://www.simpaticostmichaels.com/take-home-meals
X-ALT-DESC;FMTTYPE=text/html:<h1 style="text-align:center">Sample Saturdays: Free Wine Tasting with Our Resident Oenophile Linda Frey AND Pop Up Restaurant in our Mangia Building!</h1>\n<span style="color:rgb(0\, 0\, 0)\; font-family:avenir-lt-w01_35-light1475496\,avenir-lt-w05_35-light\,sans-serif\; font-size:16px"><span style="color:rgb(0\, 0\, 0)\; font-family:avenir-lt-w01_35-light1475496\,avenir-lt-w05_35-light\,sans-serif\; font-size:16px">Expand your palate! Free wine tasting with our Italian Wine Experts as we introduce to you to new Italian wines! Chef will be offering some delicious meals with glasses of wine for purchase in our 104 Railroad Building 12-4pm. Menu here:</span></span><br />\nhttps://www.simpaticostmichaels.com/take-home-meals<br />\n&nbsp\;
LOCATION:Simpatico 104 Railroad Ave\, St Michaels\, MD 21663
UID:e.212.25241
SEQUENCE:3
DTSTAMP:20260422T061000Z
URL:http://historic.stmichaelsmd.org/events/details/sample-saturdays-free-wine-tasting-with-our-resident-oenophile-linda-frey-and-pop-up-restaurant-in-our-mangia-building-04-13-2024-25241
END:VEVENT

END:VCALENDAR
