BEGIN:VCALENDAR
VERSION:2.0
PRODID:-//ChamberMaster//Event Calendar 2.0//EN
METHOD:PUBLISH
X-PUBLISHED-TTL:P3D
REFRESH-INTERVAL:P3D
CALSCALE:GREGORIAN
BEGIN:VEVENT
DTSTART:20240914T160000Z
DTEND:20240914T210000Z
X-MICROSOFT-CDO-ALLDAYEVENT:FALSE
SUMMARY:Sample Saturdays: Free Wine Tasting with Erminia D’Angelo of D’Angelo Wines Visiting From Basilicata! AND Lunch in our Trattoria Simpatico!
DESCRIPTION:Sample Saturdays: Free Wine Tasting with Erminia D'Angelo of D'Angelo Wines Visiting From Basilicata! AND Lunch in our Trattoria Simpatico!\nExpand your palate! Free wine tasting with our Italian Wine Experts as we introduce to you to new Italian wines! Chef will be offering some delicious meals with glasses of wine for purchase in our 104 Railroad Building Saturday. Menu here:\n\nhttps://www.simpaticostmichaels.com/take-home-meals
X-ALT-DESC;FMTTYPE=text/html:<h1 style="text-align:center">Sample Saturdays: Free Wine Tasting with Erminia D&rsquo\;Angelo of D&rsquo\;Angelo Wines Visiting From Basilicata!&nbsp\;AND Lunch in our Trattoria Simpatico!</h1>\n<span style="color:rgb(0\, 0\, 0)\; font-family:avenir-lt-w01_35-light1475496\,avenir-lt-w05_35-light\,sans-serif\; font-size:16px"><span style="color:rgb(0\, 0\, 0)\; font-family:avenir-lt-w01_35-light1475496\,avenir-lt-w05_35-light\,sans-serif\; font-size:16px">Expand your palate! Free wine tasting with our Italian Wine Experts as we introduce to you to new Italian wines! Chef will be offering some delicious meals with glasses of wine for purchase in our 104 Railroad Building Saturday. Menu here:</span></span><br />\nhttps://www.simpaticostmichaels.com/take-home-meals<br />\n&nbsp\;
LOCATION:Simpatico 104 Railroad Ave\, St Michaels\, MD 21663
UID:e.212.33002
SEQUENCE:3
DTSTAMP:20260421T214524Z
URL:http://historic.stmichaelsmd.org/events/details/sample-saturdays-free-wine-tasting-with-erminia-d-angelo-of-d-angelo-wines-visiting-from-basilicata-and-lunch-in-our-trattoria-simpatico-33002
END:VEVENT

END:VCALENDAR
