BEGIN:VCALENDAR
VERSION:2.0
PRODID:-//ChamberMaster//Event Calendar 2.0//EN
METHOD:PUBLISH
X-PUBLISHED-TTL:P3D
REFRESH-INTERVAL:P3D
CALSCALE:GREGORIAN
BEGIN:VEVENT
DTSTART:20230812T160000Z
DTEND:20230812T210000Z
X-MICROSOFT-CDO-ALLDAYEVENT:FALSE
SUMMARY:Sample Saturdays: Free Wine Tasting with Cristina Doria of Doria Wines!
DESCRIPTION:Free Saturday Wine Tasting with Cristina Doria of Doria Wines\, Aug 12th 12-5pm!\n\nJoin us with Cristina for a special wine tasting! Cristina will be offering some of her exclusive\, micro-winery wines in the shop from Veneto\, Friuli\, Valle D'Aosta and Piedmont!
X-ALT-DESC;FMTTYPE=text/html:<div>Free Saturday Wine Tasting with Cristina Doria of Doria Wines\, Aug 12th 12-5pm!</div>\n\n<div>Join us with Cristina for a special wine tasting! Cristina will be offering some of her exclusive\, micro-winery wines in the shop from Veneto\, Friuli\, Valle D&#39\;Aosta and Piedmont!</div>\n
LOCATION:Simpatico Italy's Finest 104-106 Railroad Ave St Michaels\, MD 21663
UID:e.212.24045
SEQUENCE:3
DTSTAMP:20260422T230808Z
URL:http://historic.stmichaelsmd.org/events/details/sample-saturdays-free-wine-tasting-with-cristina-doria-of-doria-wines-24045
END:VEVENT

END:VCALENDAR
