BEGIN:VCALENDAR
VERSION:2.0
PRODID:-//ChamberMaster//Event Calendar 2.0//EN
METHOD:PUBLISH
X-PUBLISHED-TTL:P3D
REFRESH-INTERVAL:P3D
CALSCALE:GREGORIAN
BEGIN:VEVENT
DTSTART:20220720T210000Z
DTEND:20220721T000000Z
X-MICROSOFT-CDO-ALLDAYEVENT:FALSE
SUMMARY:Sam Pugh\, LIVE @ Foxy's!
DESCRIPTION:Sam Pugh is back to dazzle you all! His talent knows no bounds just wait till you hear his beautiful voice!!
X-ALT-DESC;FMTTYPE=text/html:Sam Pugh is back to dazzle you all! His talent knows no bounds just wait till you hear his beautiful voice!!
LOCATION:Foxy's Harbor Grille
UID:e.212.21718
SEQUENCE:3
DTSTAMP:20260423T182037Z
URL:http://historic.stmichaelsmd.org/events/details/sam-pugh-live-foxy-s-21718
END:VEVENT

END:VCALENDAR
