BEGIN:VCALENDAR
VERSION:2.0
PRODID:-//ChamberMaster//Event Calendar 2.0//EN
METHOD:PUBLISH
X-PUBLISHED-TTL:P3D
REFRESH-INTERVAL:P3D
CALSCALE:GREGORIAN
BEGIN:VEVENT
DTSTART:20220426T224500Z
DTEND:20220427T000000Z
X-MICROSOFT-CDO-ALLDAYEVENT:FALSE
SUMMARY:Reiki Healing Sound Bath
DESCRIPTION:Join the St. Michaels Inn this month for a powerfully relaxing reiki/sound bath designed to promote deep states of calm\, relaxation\, peace & well-being.
X-ALT-DESC;FMTTYPE=text/html:<span style="color:rgb(5\, 5\, 5)\; font-family:system-ui\,-apple-system\,blinkmacsystemfont\,.sfnstext-regular\,sans-serif\; font-size:15px">Join the St. Michaels Inn this month for a powerfully relaxing reiki/sound bath designed to promote deep states of calm\, relaxation\, peace &amp\; well-being.</span>
LOCATION:Chesapeake Room - St Michaels Inn 1228 S Talbot St St Michaels MD
UID:e.212.21038
SEQUENCE:3
DTSTAMP:20260423T232032Z
URL:http://historic.stmichaelsmd.org/events/details/reiki-healing-sound-bath-21038
END:VEVENT

END:VCALENDAR
