BEGIN:VCALENDAR
VERSION:2.0
PRODID:-//ChamberMaster//Event Calendar 2.0//EN
METHOD:PUBLISH
X-PUBLISHED-TTL:P3D
REFRESH-INTERVAL:P3D
CALSCALE:GREGORIAN
BEGIN:VEVENT
DTSTART:20230910T190000Z
DTEND:20230911T000000Z
X-MICROSOFT-CDO-ALLDAYEVENT:FALSE
SUMMARY:Putterball Tournament at The Fool's Lantern
DESCRIPTION:The Fool's Lantern is hosting a Putterball Tournament on September 10th starting at 3pm. Teams of 2 will compete in a pong-style putting tournament. The top 3 teams will walk away with prizes\, including Mini Bushnell Wingman GPS speakers\, wine/beer baskets\, gift cards\, and more! Team registration is $50 which includes entry into the tournament\, a loaded swag bag for each entrant\, and chances to win prizes. Space is limited to 16 teams of 2 on a first come\, first served basis so don't delay! Email thefoolslantern@gmail.com with the names of your team members to enter the tournament.
X-ALT-DESC;FMTTYPE=text/html:The Fool&#39\;s Lantern is hosting a Putterball Tournament on September 10th starting at 3pm. Teams of 2 will compete in a pong-style putting tournament. The top 3 teams will walk away with prizes\, including Mini Bushnell Wingman GPS speakers\, wine/beer baskets\, gift cards\, and more! Team registration is $50 which includes entry into the tournament\, a loaded swag bag for each entrant\, and chances to win prizes. Space is limited to 16 teams of 2 on a first come\, first served basis so don&#39\;t delay! Email thefoolslantern@gmail.com with the names of your team members to enter the tournament.
LOCATION:The Fool's Lantern 310 S. Talbot Street St. Michaels\, MD 21663
UID:e.212.24047
SEQUENCE:3
DTSTAMP:20260422T175734Z
URL:http://historic.stmichaelsmd.org/events/details/putterball-tournament-at-the-fool-s-lantern-24047
END:VEVENT

END:VCALENDAR
