BEGIN:VCALENDAR
VERSION:2.0
PRODID:-//ChamberMaster//Event Calendar 2.0//EN
METHOD:PUBLISH
X-PUBLISHED-TTL:P3D
REFRESH-INTERVAL:P3D
CALSCALE:GREGORIAN
BEGIN:VEVENT
DTSTART:20191102T160000Z
DTEND:20191102T200000Z
X-MICROSOFT-CDO-ALLDAYEVENT:FALSE
SUMMARY:OysterJam - Oyster & Beer Festival - Phillips Wharf Environmental Center
DESCRIPTION:Please join us for OysterJam - Oyster & Beer Festival on November 2\, 2019 at the Phillips Wharf Environmental Center on Tilghman Island.\n\nOyster Jam ~ Oyster & Brew Fest is a day that brings people together to celebrate oysters and beer!  What could be better?  \n\nThe day will feature oysters from all over the state of Maryland giving you the opportunity to taste the differences between oysters grown in different areas of the Bay and its estuaries.  Oysters will be both aquaculture grown and wild caught to highlight how both disciplines can work side by side to offer profitable future harvests for everyone.  Oysters will be offered raw\, fried\, steamed\, in stew\, and in signature dishes offered by select local restaurants.\n\nOyster Jam will also play host to 7 craft breweries that will collectively offer 14 different beers for your tasting pleasure.\n\n*Alcohol will only be served to individuals 21 and older.  ID's will be checked at the gate.\n\n\n\nPurchase your tickets here.
X-ALT-DESC;FMTTYPE=text/html:<p class="neonBody" style="margin: 0px 0px 15px\; font-family: Arial\, Helvetica\, sans-serif\; font-size: 14px\;"><span style="font-size:14px\;"><span style="font-family:arial\;">Please join us for OysterJam - Oyster &amp\; Beer Festival on November 2\, 2019&nbsp\;at the&nbsp\;<a href="http://phillipswharf.org/" target="_blank">Phillips Wharf Environmental Center</a> on Tilghman Island.</span></span></p>\n\n<p class="neonBody" style="box-sizing: border-box\; margin: 0px 0px 18px\; padding: 0px\; overflow-wrap: break-word\; font-size: 18px\; line-height: 28px\; font-family: Arial\, Helvetica\, sans-serif\;"><span style="font-size:14px\;"><span style="font-family:arial\;">Oyster Jam ~ Oyster &amp\; Brew Fest is a day that brings people together to celebrate oysters and beer!&nbsp\; What could be better?&nbsp\;&nbsp\;</span></span></p>\n\n<p class="neonBody" style="box-sizing: border-box\; margin: 0px 0px 18px\; padding: 0px\; overflow-wrap: break-word\; font-size: 18px\; line-height: 28px\; font-family: Arial\, Helvetica\, sans-serif\;"><span style="font-size:14px\;"><span style="font-family:arial\;">The day will feature oysters from all over the state of Maryland giving you the opportunity to taste the differences between oysters grown in </span></span><span style="font-family: arial\; font-size: 14px\;">different&nbsp\;</span><span style="font-size:14px\;"><span style="font-family:arial\;">areas of the Bay and its estuaries. &nbsp\;Oysters will be both aquaculture grown and wild caught to highlight how both disciplines can work side by side to offer profitable future harvests for everyone. &nbsp\;Oysters will be offered raw\, fried\, steamed\, in stew\, and in signature dishes offered by select local restaurants.</span></span></p>\n\n<p class="neonBody" style="box-sizing: border-box\; margin: 0px 0px 18px\; padding: 0px\; overflow-wrap: break-word\; font-size: 18px\; line-height: 28px\; font-family: Arial\, Helvetica\, sans-serif\;"><span style="font-size:14px\;"><span style="font-family:arial\;">Oyster Jam will also&nbsp\;play&nbsp\;host to 7 craft breweries that will collectively offer 14 different beers for your tasting pleasure.</span></span></p>\n\n<p class="neonBody" style="margin: 0px 0px 15px\; font-family: Arial\, Helvetica\, sans-serif\; font-size: 14px\;"><span style="font-size:14px\;"><span style="font-family:arial\;">*Alcohol will only be served to individuals 21 and older. &nbsp\;ID&#39\;s will be checked at the gate.</span></span><br />\n<br />\nPurchase your tickets <a href="https://phillipswharf.org/events/oyster-jam/" target="_blank"><strong><u>here.&nbsp\;</u></strong></a></p>\n
LOCATION:6129 Tilghman Island Rd Tilghman\, MD 21671
UID:e.212.19354
SEQUENCE:3
DTSTAMP:20260425T200809Z
URL:http://historic.stmichaelsmd.org/events/details/oysterjam-oyster-beer-festival-phillips-wharf-environmental-center-19354
END:VEVENT

END:VCALENDAR
