BEGIN:VCALENDAR
VERSION:2.0
PRODID:-//ChamberMaster//Event Calendar 2.0//EN
METHOD:PUBLISH
X-PUBLISHED-TTL:P3D
REFRESH-INTERVAL:P3D
CALSCALE:GREGORIAN
BEGIN:VEVENT
DTSTART:20211030T140000Z
DTEND:20211030T200000Z
X-MICROSOFT-CDO-ALLDAYEVENT:FALSE
SUMMARY:OysterFest October 30\, 2021
DESCRIPTION:CBMM's OysterFest features oysters served a variety of ways\, along with other local fare\, craft beer\, and spirits\; live music on two stages\, including a return performance by Swamp Donkey Newgrass\; scenic river cruises aboard Winnie Estelle (weather dependent)\; an oyster stew competition\; cooking presentations\; Chesapeake Bay retriever and oystering demonstrations\; children's activities\, and more.\n\nFestival-goers can savor Chesapeake Bay wild and aquaculture oysters served steamed or raw\, plus oyster fritters\, crab cakes\, fried shrimp\, clam strips\, pit beef\, pit turkey\, and pulled pork\, among other offerings. Lyon Distilling Company will serve a specialty rum cocktail\, with other drink options including oyster shooters and Chesapeake-style Bloody Marys\, featuring George's Bloody Mary mix. Sweets and treats include ice cream\, funnel cakes\, kettle corn\, and more.\n\nLocal chefs will offer cooking demonstrations of signature oyster dishes throughout the day. Beginning at 11am\, attendees can vote for their favorite oyster stew in a competition among local restaurants and chefs. Participation is limited to 500 people on a first-come\, first-served basis\, with a commemorative OysterFest mug and the tastings offered for $10. This blind taste test awards bragging rights to the chef with the most votes\, with the People's Choice winner announced at the festival and later to the public.\n\nFamily activities include Chesapeake-themed games\, activities\, and demonstrations\; a scavenger hunt\; face painting\; and a chance to build a take-home model boat for $3. The Chesapeake Bay Retriever Relief and Rescue club will also present retriever demonstrations on CBMM's Navy Point.\n\nGuests will also be able to explore CBMM's exhibitions\, including Oystering on the Chesapeake and Waterman's Wharf\, where they can try tonging or nippering for oysters. A spirited oyster slurping contest has competitions taking place on the hour from 1 3pm.\n\nOysterFest admission is $5 for CBMM adult members\, or $18 for non-member adults\; $15 for seniors and students with ID\; and $6 for children ages 6 to 17. CBMM members at the Family & Friends level and above also receive the $5 discounted admission for two adult guests. Food\, drinks\, and boat rides are an additional cost\, with carry-on alcohol prohibited. For safety reasons\, non-service dogs need to be kept home during CBMM festivals\, with leashed dogs permitted during regular operating hours.\n\nProceeds from the event support CBMM's education\, restoration\, and exhibition programs\, with advanced tickets and more information at cbmm.org/oysterfest.\n\nPLEASE NOTE: The Museum Store now has an ATM.
X-ALT-DESC;FMTTYPE=text/html:<p style="margin: 0px 0px 10px\; padding: 0px 0px 0.5em\; font-family: georgia\; font-size: 17px\; line-height: 20.4px\; color: rgb(32\, 28\, 87)\; text-align: justify\;">CBMM&rsquo\;s OysterFest features oysters served a variety of ways\, along with other local fare\, craft beer\, and spirits\; live music on two stages\, including a return performance by Swamp Donkey Newgrass\; scenic river cruises aboard Winnie Estelle (weather dependent)\; an oyster stew competition\; cooking presentations\; Chesapeake Bay retriever and oystering demonstrations\; children&rsquo\;s activities\, and more.</p>\n\n<p style="margin: 0px 0px 10px\; padding: 0px 0px 0.5em\; font-family: georgia\; font-size: 17px\; line-height: 20.4px\; color: rgb(32\, 28\, 87)\; text-align: justify\;">Festival-goers can savor Chesapeake Bay wild and aquaculture oysters served steamed or raw\, plus oyster fritters\, crab cakes\, fried shrimp\, clam strips\, pit beef\, pit turkey\, and pulled pork\, among other offerings. Lyon Distilling Company will serve a specialty rum cocktail\, with other drink options including oyster shooters and Chesapeake-style Bloody Marys\, featuring George&rsquo\;s Bloody Mary mix. Sweets and treats include ice cream\, funnel cakes\, kettle corn\, and more.</p>\n\n<p style="margin: 0px 0px 10px\; padding: 0px 0px 0.5em\; font-family: georgia\; font-size: 17px\; line-height: 20.4px\; color: rgb(32\, 28\, 87)\; text-align: justify\;">Local chefs will offer cooking demonstrations of signature oyster dishes throughout the day. Beginning at 11am\, attendees can vote for their favorite oyster stew in a competition among local restaurants and chefs. Participation is limited to 500 people on a first-come\, first-served basis\, with a commemorative OysterFest mug and the tastings offered for $10. This blind taste test awards bragging rights to the chef with the most votes\, with the People&rsquo\;s Choice winner announced at the festival and later to the public.</p>\n\n<p style="margin: 0px 0px 10px\; padding: 0px 0px 0.5em\; font-family: georgia\; font-size: 17px\; line-height: 20.4px\; color: rgb(32\, 28\, 87)\; text-align: justify\;">Family activities include Chesapeake-themed games\, activities\, and demonstrations\; a scavenger hunt\; face painting\; and a chance to build a take-home model boat for $3. The Chesapeake Bay Retriever Relief and Rescue club will also present retriever demonstrations on CBMM&rsquo\;s Navy Point.</p>\n\n<p style="margin: 0px 0px 10px\; padding: 0px 0px 0.5em\; font-family: georgia\; font-size: 17px\; line-height: 20.4px\; color: rgb(32\, 28\, 87)\; text-align: justify\;">Guests will also be able to explore CBMM&rsquo\;s exhibitions\, including Oystering on the Chesapeake and Waterman&rsquo\;s Wharf\, where they can try tonging or nippering for oysters. A spirited oyster slurping contest has competitions taking place on the hour from 1&ndash\;3pm.</p>\n\n<p style="margin: 0px 0px 10px\; padding: 0px 0px 0.5em\; font-family: georgia\; font-size: 17px\; line-height: 20.4px\; color: rgb(32\, 28\, 87)\; text-align: justify\;">OysterFest admission is $5 for CBMM adult members\, or $18 for non-member adults\; $15 for seniors and students with ID\; and $6 for children ages 6 to 17. CBMM members at the Family &amp\; Friends level and above also receive the $5 discounted admission for two adult guests. Food\, drinks\, and boat rides are an additional cost\, with carry-on alcohol prohibited. For safety reasons\, non-service dogs need to be kept home during CBMM festivals\, with leashed dogs permitted during regular operating hours.</p>\n\n<p style="margin: 0px 0px 10px\; padding: 0px 0px 0.5em\; font-family: georgia\; font-size: 17px\; line-height: 20.4px\; color: rgb(32\, 28\, 87)\; text-align: justify\;">Proceeds from the event support CBMM&rsquo\;s education\, restoration\, and exhibition programs\, with advanced tickets and more information at cbmm.org/oysterfest.</p>\n\n<p style="margin: 0px 0px 10px\; padding: 0px 0px 0.5em\; font-family: georgia\; font-size: 17px\; line-height: 20.4px\; color: rgb(32\, 28\, 87)\; text-align: justify\;">PLEASE NOTE: The Museum Store now has an ATM.</p>\n
LOCATION:Chesapeake Bay Maritime Museum 213 N. Talbot Street St. Michaels\, MD 21663
UID:e.212.19845
SEQUENCE:3
DTSTAMP:20260424T081041Z
URL:http://historic.stmichaelsmd.org/events/details/oysterfest-october-30-2021-19845
END:VEVENT

END:VCALENDAR
