BEGIN:VCALENDAR
VERSION:2.0
PRODID:-//ChamberMaster//Event Calendar 2.0//EN
METHOD:PUBLISH
X-PUBLISHED-TTL:P3D
REFRESH-INTERVAL:P3D
CALSCALE:GREGORIAN
BEGIN:VEVENT
DTSTART:20221029T140000Z
DTEND:20221029T200000Z
X-MICROSOFT-CDO-ALLDAYEVENT:FALSE
SUMMARY:OysterFest October 29\, 2022
DESCRIPTION:Get ready to celebrate the Bay's favorite bivalve at the Chesapeake Bay Maritime Museum's OysterFest on Saturday\, Oct. 29.\n\nRunning 10am-4pm\, CBMM's OysterFest features oysters served a variety of ways\, along with other local fare\, craft beer\, and spirits\, plus live music\, an oyster stew competition\, a full schedule of oyster-themed demonstrations and presentations\, children's activities\, and more.\n\nAt the rain or shine event\, festivalgoers can savor Chesapeake Bay oysters\, with both raw and cooked options available\, from the Talbot Watermen Association and other local oyster farms. There will also be a variety of Chesapeake delicacies and other food offerings via local vendors available for purchase\, plus a beverage selection that includes specialty cocktails featuring Windon Distilling Lyon Rum\, Chesapeake-style Bloody Marys featuring George's Beverage Company mix\, and an array of local craft beer options.\n\nThe always-popular oyster stew competition begins at 11am and invites guests to sample offerings from various local restaurants and vote for their favorite\, while the American Chesapeake Club will be on hand to discuss Maryland's official dog\, the Chesapeake Bay retriever\, and showcase its retrieving ability.\n\nOne Hundred Shores project is offering a unique workshop that allows guests to connect with the Bay's water from 100 different locations across the Chesapeake estuary in a dyeing process to create shirts which illustrate a map of the watershed itself. Registration is available now at bit.ly/OysterFestOneHundredShores.\n\nIn its fourth OysterFest appearance\, Maryland-based Swamp Donkey Newgrass will be playing the Tolchester Beach Bandstand all day long\, delivering an exciting combination of original songs and unique covers that span many genres in a style they have made all their own.\n\nThroughout the day\, Van Lennep Auditorium will host a variety of guest speakers and oyster-related presentations sponsored by the Upper Shore Regional Folklife Center\, starting at 11am with a cooking demonstration from Executive Chef Gregory James from Stars Restaurant at the Inn at Perry Cabin.\n\nAt 12:45pm\, Bivalve Trail podcast host Lexi Hubb will offer a presentation on Thomas Downing\, a Black American born free on Virginia's Eastern Shore who helped make New York City the Oyster Capital of the world in the mid-1800s. Later\, Hubb and co-host Bill Troxler will describe how they created the narrative\, music and soundscape for Downing's story\, illustrating time periods\, settings\, and emotions without visual cues.\n\nAs part of CBMM's partnership with The Great Maryland Recipe Hunt\, food historian Joyce White will offer a culinary history of Chesapeake Bay oysters\, beginning at 1:30pm. The foodways documentation project\, One Hundred Shores\, and the Bivalve Trail programming are presented by the Regional Folklife Center through the Maryland Traditions Program of the Maryland State Arts Council.\n\nFamily activities include Chesapeake-themed games\, activities\, and demonstrations\, and a chance to build a take-home model boat.\n\nGuests will also be able to explore CBMM's exhibitions\, including Oystering on the Chesapeake and Waterman's Wharf\, where they can try tonging or nippering for oysters.\n\nGuests are also invited to participate in an oyster slurp-off contest\, tour one of the visiting Chesapeake Bay buyboats and vessels within CBMM's historic Floating Fleet\, watch an antique diving demonstration\, and visit the Phillips Wharf Fishmobile.\n\nFood and drinks are available for an additional cost\, with carry-on alcohol prohibited. Proceeds from the event support CBMM's education\, restoration\, and exhibition programs.\n\nFor safety reasons\, non-service dogs need to be kept home during CBMM festivals\, including OysterFest. Carry-on alcohol from dock or land is prohibited.\n\n\nFor OysterFest\, CBMM is proud to be partnering with The Great Maryland Recipe Hunt   a foodways documentation project   as part of the work of the Regional Folklife Center through the Maryland Traditions Program of the Maryland State Arts Council.
X-ALT-DESC;FMTTYPE=text/html:<div class="tribe-events-single-event-description tribe-events-content entry-content description" style="box-sizing: border-box\; margin: 0px\; padding: 0px\; max-width: 100%\; width: 802.5px\; font-family: &quot\;Helvetica Neue&quot\;\, Helvetica\, Arial\, sans-serif\; font-size: 14px\;">\n<h3 style="box-sizing: border-box\; margin: 24px 0px\; padding: 0px\; font-family: inherit\; line-height: 1.8\; color: inherit\; font-size: 16px\; text-align: center\;">Get ready to celebrate the Bay&rsquo\;s favorite bivalve at the Chesapeake Bay Maritime Museum&rsquo\;s OysterFest on Saturday\, Oct. 29.</h3>\n\n<p style="box-sizing: border-box\; margin: 0px 0px 10px\; padding: 0px\; line-height: 1.7\; font-family: &quot\;Helvetica Neue&quot\;\, Helvetica\, Arial\, sans-serif\; font-size: 14px\;">Running 10am-4pm\, CBMM&rsquo\;s OysterFest features oysters served a variety of ways\, along with other local fare\, craft beer\, and spirits\, plus live music\, an oyster stew competition\, a full schedule of oyster-themed demonstrations and presentations\, children&rsquo\;s activities\, and more.</p>\n\n<p style="box-sizing: border-box\; margin: 0px 0px 10px\; padding: 0px\; line-height: 1.7\; font-family: &quot\;Helvetica Neue&quot\;\, Helvetica\, Arial\, sans-serif\; font-size: 14px\;">At the rain or shine event\, festivalgoers can savor Chesapeake Bay oysters\, with both raw and cooked options available\, from the&nbsp\;<a href="https://www.talbotwatermen.net/" rel="noopener" style="box-sizing: border-box\; margin: 0px\; padding: 0px\; background-color: transparent\; color: rgb(66\, 139\, 202)\; text-decoration-line: none\;" target="_blank">Talbot Watermen Association</a>&nbsp\;and other local oyster farms. There will also be a variety of Chesapeake delicacies and other food offerings via local vendors available for purchase\, plus a beverage selection that includes specialty cocktails featuring&nbsp\;<a href="https://www.lyonrum.com/" rel="noopener" style="box-sizing: border-box\; margin: 0px\; padding: 0px\; background-color: transparent\; color: rgb(66\, 139\, 202)\; text-decoration-line: none\;" target="_blank">Windon Distilling Lyon Rum</a>\, Chesapeake-style Bloody Marys featuring&nbsp\;<a href="https://georgesbeveragecompany.com/" rel="noopener" style="box-sizing: border-box\; margin: 0px\; padding: 0px\; background-color: transparent\; color: rgb(66\, 139\, 202)\; text-decoration-line: none\;" target="_blank">George&rsquo\;s Beverage Company</a>&nbsp\;mix\, and an array of local craft beer options.</p>\n\n<p style="box-sizing: border-box\; margin: 0px 0px 10px\; padding: 0px\; line-height: 1.7\; font-family: &quot\;Helvetica Neue&quot\;\, Helvetica\, Arial\, sans-serif\; font-size: 14px\;">The always-popular oyster stew competition begins at 11am and invites guests to sample offerings from various local restaurants and vote for their favorite\, while the&nbsp\;<a href="https://amchessieclub.org/" rel="noopener" style="box-sizing: border-box\; margin: 0px\; padding: 0px\; background-color: transparent\; color: rgb(66\, 139\, 202)\; text-decoration-line: none\;" target="_blank">American Chesapeake Club</a>&nbsp\;will be on hand to discuss Maryland&rsquo\;s official dog\, the Chesapeake Bay retriever\, and showcase its retrieving ability.</p>\n\n<p style="box-sizing: border-box\; margin: 0px 0px 10px\; padding: 0px\; line-height: 1.7\; font-family: &quot\;Helvetica Neue&quot\;\, Helvetica\, Arial\, sans-serif\; font-size: 14px\;"><a href="https://www.onehundredshores.com/stories" rel="noopener" style="box-sizing: border-box\; margin: 0px\; padding: 0px\; background-color: transparent\; color: rgb(66\, 139\, 202)\; text-decoration-line: none\;" target="_blank">One Hundred Shores</a>&nbsp\;project is offering a unique workshop that allows guests to connect with the Bay&rsquo\;s water from 100 different locations across the Chesapeake estuary in a dyeing process to create shirts which illustrate a map of the watershed itself. Registration is available now at&nbsp\;<a href="http://bit.ly/OysterFestOneHundredShores" rel="noopener" style="box-sizing: border-box\; margin: 0px\; padding: 0px\; background-color: transparent\; color: rgb(66\, 139\, 202)\; text-decoration-line: none\;" target="_blank">bit.ly/OysterFestOneHundredShores</a>.</p>\n\n<p style="box-sizing: border-box\; margin: 0px 0px 10px\; padding: 0px\; line-height: 1.7\; font-family: &quot\;Helvetica Neue&quot\;\, Helvetica\, Arial\, sans-serif\; font-size: 14px\;">In its fourth OysterFest appearance\, Maryland-based&nbsp\;<a href="http://www.swampdonkeymusic.com/" rel="noopener" style="box-sizing: border-box\; margin: 0px\; padding: 0px\; background-color: transparent\; color: rgb(66\, 139\, 202)\; text-decoration-line: none\;" target="_blank">Swamp Donkey Newgrass</a>&nbsp\;will be playing the Tolchester Beach Bandstand all day long\, delivering an exciting combination of original songs and unique covers that span many genres in a style they have made all their own.</p>\n\n<p style="box-sizing: border-box\; margin: 0px 0px 10px\; padding: 0px\; line-height: 1.7\; font-family: &quot\;Helvetica Neue&quot\;\, Helvetica\, Arial\, sans-serif\; font-size: 14px\;">Throughout the day\, Van Lennep Auditorium will host a variety of guest speakers and oyster-related presentations sponsored by the Upper Shore Regional Folklife Center\, starting at 11am with a cooking demonstration from Executive Chef Gregory James from Stars Restaurant at the&nbsp\;<a href="https://innatperrycabin.com/" rel="noopener" style="box-sizing: border-box\; margin: 0px\; padding: 0px\; background-color: transparent\; color: rgb(66\, 139\, 202)\; text-decoration-line: none\;" target="_blank">Inn at Perry Cabin</a>.</p>\n\n<p style="box-sizing: border-box\; margin: 0px 0px 10px\; padding: 0px\; line-height: 1.7\; font-family: &quot\;Helvetica Neue&quot\;\, Helvetica\, Arial\, sans-serif\; font-size: 14px\;">At 12:45pm\,&nbsp\;<a href="https://www.chincoteagueca.org/bivalvetrail.html" rel="noopener" style="box-sizing: border-box\; margin: 0px\; padding: 0px\; background-color: transparent\; color: rgb(66\, 139\, 202)\; text-decoration-line: none\;" target="_blank">Bivalve Trail podcast</a>&nbsp\;host Lexi Hubb will offer a presentation on Thomas Downing\, a Black American born free on Virginia&rsquo\;s Eastern Shore who helped make New York City the Oyster Capital of the world in the mid-1800s. Later\, Hubb and co-host Bill Troxler will describe how they created the narrative\, music and soundscape for Downing&rsquo\;s story\, illustrating time periods\, settings\, and emotions without visual cues.</p>\n\n<p style="box-sizing: border-box\; margin: 0px 0px 10px\; padding: 0px\; line-height: 1.7\; font-family: &quot\;Helvetica Neue&quot\;\, Helvetica\, Arial\, sans-serif\; font-size: 14px\;">As part of CBMM&rsquo\;s partnership with&nbsp\;<a href="https://marylandrecipes.org/" rel="noopener" style="box-sizing: border-box\; margin: 0px\; padding: 0px\; background-color: transparent\; color: rgb(66\, 139\, 202)\; text-decoration-line: none\;" target="_blank">The Great Maryland Recipe Hunt</a>\, food historian Joyce White will offer a culinary history of Chesapeake Bay oysters\, beginning at 1:30pm. The foodways documentation project\, One Hundred Shores\, and the Bivalve Trail programming are presented by the Regional Folklife Center through the&nbsp\;<a href="https://msac.org/programs/maryland-traditions" rel="noopener" style="box-sizing: border-box\; margin: 0px\; padding: 0px\; background-color: transparent\; color: rgb(66\, 139\, 202)\; text-decoration-line: none\;" target="_blank">Maryland Traditions Program</a>&nbsp\;of the&nbsp\;<a href="https://msac.org/" rel="noopener" style="box-sizing: border-box\; margin: 0px\; padding: 0px\; background-color: transparent\; color: rgb(66\, 139\, 202)\; text-decoration-line: none\;" target="_blank">Maryland State Arts Council</a>.</p>\n\n<p style="box-sizing: border-box\; margin: 0px 0px 10px\; padding: 0px\; line-height: 1.7\; font-family: &quot\;Helvetica Neue&quot\;\, Helvetica\, Arial\, sans-serif\; font-size: 14px\;">Family activities include Chesapeake-themed games\, activities\, and demonstrations\, and a chance to build a take-home model boat.</p>\n\n<p style="box-sizing: border-box\; margin: 0px 0px 10px\; padding: 0px\; line-height: 1.7\; font-family: &quot\;Helvetica Neue&quot\;\, Helvetica\, Arial\, sans-serif\; font-size: 14px\;">Guests will also be able to explore CBMM&rsquo\;s exhibitions\, including&nbsp\;<em style="box-sizing: border-box\; margin: 0px\; padding: 0px\;">Oystering on the Chesapeake</em>&nbsp\;and&nbsp\;<em style="box-sizing: border-box\; margin: 0px\; padding: 0px\;">Waterman&rsquo\;s Wharf</em>\, where they can try tonging or nippering for oysters.</p>\n\n<p style="box-sizing: border-box\; margin: 0px 0px 10px\; padding: 0px\; line-height: 1.7\; font-family: &quot\;Helvetica Neue&quot\;\, Helvetica\, Arial\, sans-serif\; font-size: 14px\;">Guests are also invited to participate in an oyster slurp-off contest\, tour one of the visiting Chesapeake Bay buyboats and vessels within CBMM&rsquo\;s historic Floating Fleet\, watch an antique diving demonstration\, and visit the&nbsp\;<a href="https://phillipswharf.org/fishmobile/" rel="noopener" style="box-sizing: border-box\; margin: 0px\; padding: 0px\; background-color: transparent\; color: rgb(66\, 139\, 202)\; text-decoration-line: none\;" target="_blank">Phillips Wharf Fishmobile</a>.</p>\n\n<p style="box-sizing: border-box\; margin: 0px 0px 10px\; padding: 0px\; line-height: 1.7\; font-family: &quot\;Helvetica Neue&quot\;\, Helvetica\, Arial\, sans-serif\; font-size: 14px\;">Food and drinks are available for an additional cost\, with carry-on alcohol prohibited. Proceeds from the event support CBMM&rsquo\;s education\, restoration\, and exhibition programs.</p>\n\n<p style="box-sizing: border-box\; margin: 0px 0px 10px\; padding: 0px\; line-height: 1.7\; font-family: &quot\;Helvetica Neue&quot\;\, Helvetica\, Arial\, sans-serif\; font-size: 14px\;"><strong style="box-sizing: border-box\; margin: 0px\; padding: 0px\;">For safety reasons\, non-service dogs need to be kept home during CBMM festivals\, including OysterFest. Carry-on alcohol from dock or land is prohibited.</strong></p>\n\n<hr style="box-sizing: content-box\; margin: 20px 0px\; padding: 0px\; height: 0px\; border-top-color: rgb(238\, 238\, 238)\; font-family: &quot\;Helvetica Neue&quot\;\, Helvetica\, Arial\, sans-serif\; font-size: 14px\;" />\n<p style="box-sizing: border-box\; margin: 0px 0px 10px\; padding: 0px\; line-height: 1.7\; font-family: &quot\;Helvetica Neue&quot\;\, Helvetica\, Arial\, sans-serif\; font-size: 14px\;">For OysterFest\, CBMM is proud to be partnering with&nbsp\;<a href="http://marylandrecipes.org/" rel="noopener" style="box-sizing: border-box\; margin: 0px\; padding: 0px\; background-color: transparent\; color: rgb(66\, 139\, 202)\; text-decoration-line: none\;" target="_blank">The Great Maryland Recipe Hunt</a>&nbsp\;&ndash\; a foodways documentation project &ndash\; as part of the work of the Regional Folklife Center through the&nbsp\;<a href="https://msac.org/programs/maryland-traditions" rel="noopener" style="box-sizing: border-box\; margin: 0px\; padding: 0px\; background-color: transparent\; color: rgb(66\, 139\, 202)\; text-decoration-line: none\;" target="_blank">Maryland Traditions Program</a>&nbsp\;of the&nbsp\;<a href="https://msac.org/" rel="noopener" style="box-sizing: border-box\; margin: 0px\; padding: 0px\; background-color: transparent\; color: rgb(66\, 139\, 202)\; text-decoration-line: none\;" target="_blank">Maryland State Arts Council</a>.</p>\n</div>\n
LOCATION:Chesapeake Bay Maritime Museum 213 N. Talbot Street St. Michaels\, MD 21663
UID:e.212.21848
SEQUENCE:3
DTSTAMP:20260423T135339Z
URL:http://historic.stmichaelsmd.org/events/details/oysterfest-october-29-2022-21848
END:VEVENT

END:VCALENDAR
