BEGIN:VCALENDAR
VERSION:2.0
PRODID:-//ChamberMaster//Event Calendar 2.0//EN
METHOD:PUBLISH
X-PUBLISHED-TTL:P3D
REFRESH-INTERVAL:P3D
CALSCALE:GREGORIAN
BEGIN:VEVENT
DTSTART:20230713T140000Z
DTEND:20230731T220000Z
X-MICROSOFT-CDO-ALLDAYEVENT:FALSE
SUMMARY:Ophiuroidea "The O" HOT Summer Sale!
DESCRIPTION:Come check out Ophiuroidea The O HOT Summer sales with summer clothing from brands Cabana Life\, Scales\, Aryeh and West Indies Wear.   \n\nBuy One Get One 50% Off! \n\nPlus we have other sale items on sale 50% Off (not included in the BOGO sale)\n\n\n\nStop in and get your new summer outfits!   \n\nWe have Women's and Men's.   :)
X-ALT-DESC;FMTTYPE=text/html:<div style="color: rgb(29\, 34\, 40)\; font-family: &quot\;Helvetica Neue&quot\;\, Helvetica\, Arial\, sans-serif\;"><span style="color: rgb(28\, 30\, 33)\; font-family: Helvetica\, Arial\, sans-serif\; font-size: 14px\;">Come check out Ophiuroidea The O HOT Summer sales with summer clothing from brands Cabana Life\, Scales\, Aryeh and West Indies Wear.&nbsp\; &nbsp\;<br />\nBuy One Get One 50% Off!&nbsp\;<br />\nPlus we have other sale items on sale 50% Off (not included in the BOGO sale)<br />\n<br />\nStop in and get your new summer outfits!&nbsp\; &nbsp\;<br />\nWe have Women&#39\;s and Men&#39\;s.&nbsp\; &nbsp\;:)</span></div>\n
LOCATION:100 S. Talbot Street St. Michaels\, MD 21663
UID:e.212.24036
SEQUENCE:3
DTSTAMP:20260424T090017Z
URL:http://historic.stmichaelsmd.org/events/details/ophiuroidea-the-o-hot-summer-sale-24036
END:VEVENT

END:VCALENDAR
