BEGIN:VCALENDAR
VERSION:2.0
PRODID:-//ChamberMaster//Event Calendar 2.0//EN
METHOD:PUBLISH
X-PUBLISHED-TTL:P3D
REFRESH-INTERVAL:P3D
CALSCALE:GREGORIAN
BEGIN:VEVENT
DTSTART;VALUE=DATE:20230514
DTEND;VALUE=DATE:20230515
TRANSP:TRANSPARENT
X-MICROSOFT-CDO-ALLDAYEVENT:TRUE
SUMMARY:Mother's Day Special Free Mimosa's at Blu Miles Restaurant
DESCRIPTION:Mother's Day Special Free Mimosa's at Blu Miles Restaurant\n\nFree mimosa's for all Mother's when you order a meal on Mother's Day!
X-ALT-DESC;FMTTYPE=text/html:Mother&#39\;s Day Special Free Mimosa&#39\;s at Blu Miles Restaurant<br />\nFree mimosa&#39\;s for all Mother&#39\;s when you order a meal on Mother&#39\;s Day!
LOCATION:
UID:e.212.23478
SEQUENCE:3
DTSTAMP:20260423T022830Z
URL:http://historic.stmichaelsmd.org/events/details/mother-s-day-special-free-mimosa-s-at-blu-miles-restaurant-23478
END:VEVENT

END:VCALENDAR
