BEGIN:VCALENDAR
VERSION:2.0
PRODID:-//ChamberMaster//Event Calendar 2.0//EN
METHOD:PUBLISH
X-PUBLISHED-TTL:P3D
REFRESH-INTERVAL:P3D
CALSCALE:GREGORIAN
BEGIN:VEVENT
DTSTART:20280131T230000Z
DTEND:20280201T010000Z
X-MICROSOFT-CDO-ALLDAYEVENT:FALSE
SUMMARY:Monday Night Trivia with DJ Chuckie
DESCRIPTION:???? MONDAY NIGHT TRIVIA + KARAOKE! ????\n\nJoin us every Monday from 6 8 PM for Trivia with DJ Chuckie Love\, followed by karaoke that'll keep the good vibes going all night long!\n\n\n\n? Fun cocktails ??\n\n?? Surprise giveaways\n\n?? Your moment on the mic\n\n?? Bragging rights if you win trivia\n\n\n\nBring your team or come solo just don't miss it!\n\nBar seating\, drinks\, and good times waiting at Corah's Corner.\n\n\n\n#TriviaNight #KaraokeParty #CorahsCorner #DJChuckieLove #StMichaelsMD #MondayFunday #LocalEvents #EasternShoreEats
X-ALT-DESC;FMTTYPE=text/html:???? MONDAY NIGHT TRIVIA + KARAOKE! ????<br />\nJoin us every Monday from 6&ndash\;8 PM for Trivia with DJ Chuckie Love\, followed by karaoke that&rsquo\;ll keep the good vibes going all night long!<br />\n<br />\n? Fun cocktails ??<br />\n?? Surprise giveaways<br />\n?? Your moment on the mic<br />\n?? Bragging rights if you win trivia<br />\n<br />\nBring your team or come solo&mdash\;just don&rsquo\;t miss it!<br />\nBar seating\, drinks\, and good times waiting at Corah&rsquo\;s Corner.<br />\n<br />\n#TriviaNight #KaraokeParty #CorahsCorner #DJChuckieLove #StMichaelsMD #MondayFunday #LocalEvents #EasternShoreEats
LOCATION:105 N Talbot St St Michaels\, MD 21663
UID:e.212.35630
SEQUENCE:3
DTSTAMP:20260422T010808Z
URL:http://historic.stmichaelsmd.org/events/details/monday-night-trivia-with-dj-chuckie-01-31-2028-35630
END:VEVENT

END:VCALENDAR
