BEGIN:VCALENDAR
VERSION:2.0
PRODID:-//ChamberMaster//Event Calendar 2.0//EN
METHOD:PUBLISH
X-PUBLISHED-TTL:P3D
REFRESH-INTERVAL:P3D
CALSCALE:GREGORIAN
BEGIN:VEVENT
DTSTART;VALUE=DATE:20221203
DTEND;VALUE=DATE:20221204
TRANSP:TRANSPARENT
X-MICROSOFT-CDO-ALLDAYEVENT:TRUE
SUMMARY:Midnight Madness December 3\, 2022
DESCRIPTION:Shop\, Dine\, Stay at participating businesses on Saturday\, December 3rd to receive tickets for your chance to win amazing gift baskets. \n\nCelebrating the holidays in St. Michaels is a tradition for many\, and this year is no different. Maryland's Eastern Shore is home to many picturesque towns\, but none embody an old-fashioned holiday feel quite like St. Michaels.  With our quaint shops\, world-class dining and jolly spirit\, St. Michaels is transformed during the holidays into a Christmas Village. The holiday spirit is felt throughout town\, which makes coming to St Michaels during the holiday season a special experience\, year after year\, and provides a wonderful backdrop to shop for the holidays. \n\n \n\nThis years 21st Annual Midnight Madness event starts with the lighting of the Christmas Tree at St. Luke's Church on Friday\, December 2nd.  The tree lighting started in 2021 as a way to show support for the businesses in town and adorns ornaments representing the businesses. On the morning of Midnight Madness\, start your day out with a brisk run or walk with St. Michaels Running Company's Holiday Hustle\, a scenic 5k Run/Walk along St. Michaels Nature Trail (weather permitting). \n\n \n\n\nNew this year\, the elves will put on a special event during the day from 1pm - 4pm at St. Luke's Church which will include a Cookie Contest & Bake Sale and Ugly Sweater Contest for humans and dogs!   There will also be a jewelry sale at St. Luke's Church.\n\nAs day turns to night\, St. Michaels becomes a beautiful twinkling Christmas Village.  Shops will be open late with refreshments and snacks\, and special sales during Midnight Madness\, plus each purchase at participating businesses gives you a chance to win raffle prizes valued at over $15\,000.   Look for Midnight Madness sponsor posters at your favorite shop\, restaurant or lodging locations.\n\n\n\nDrawings start at 11:00pm at The Galley Restaurant and participants must be present to win.\n\n\nThanks to the many participating Midnight Madness sponsors and donations from businesses\, Midnight Madness would not happen without them! \n\nLike Midnight Madness on Facebook
X-ALT-DESC;FMTTYPE=text/html:<p style="box-sizing: border-box\; margin: 0px 0px 10px\; font-family: &quot\;Open Sans&quot\;\, sans-serif\; font-size: 16px\;">Shop\, Dine\, Stay at participating businesses on Saturday\, December 3rd to receive tickets for your chance to win amazing gift baskets.&nbsp\;</p>\n\n<p style="box-sizing: border-box\; margin: 0px 0px 10px\; font-family: &quot\;Open Sans&quot\;\, sans-serif\; font-size: 16px\;"><span style="box-sizing: border-box\;"><span style="box-sizing: border-box\; font-family: arial\, helvetica\, sans-serif\;">Celebrating the holidays in St. Michaels is a tradition for many\, and this year is no different. Maryland&rsquo\;s Eastern Shore is home to many picturesque towns\, but none embody an old-fashioned holiday feel quite like St. Michaels.&nbsp\;&nbsp\;</span></span><span style="box-sizing: border-box\;"><span style="box-sizing: border-box\; font-family: arial\, helvetica\, sans-serif\;">With our quaint shops\, world-class dining and jolly spirit\, St. Michaels is transformed during the holidays into a Christmas Village. The holiday spirit is felt throughout town\, which makes coming to St Michaels during the holiday season a special experience\, year after year\, and provides a wonderful backdrop to shop for the holidays.&nbsp\;</span></span></p>\n\n<div dir="auto" style="box-sizing: border-box\; font-family: &quot\;Open Sans&quot\;\, sans-serif\; font-size: 16px\;">&nbsp\;</div>\n\n<div dir="auto" style="box-sizing: border-box\; font-family: &quot\;Open Sans&quot\;\, sans-serif\; font-size: 16px\;"><span style="box-sizing: border-box\;"><span style="box-sizing: border-box\; font-family: arial\, helvetica\, sans-serif\;">This years 21st Annual Midnight Madness event&nbsp\;starts with the lighting of the Christmas Tree at St. Luke&#39\;s Church on Friday\, December 2nd.&nbsp\; The tree lighting started in 2021 as a way to show support for the businesses in town and adorns ornaments representing the businesses. On the morning of Midnight Madness\, start your day out with a brisk run or walk with&nbsp\;<strong style="box-sizing: border-box\;"><a href="https://runsignup.com/Race/MD/Saintmichaels/holidayhustle5kfunrunwalk" style="box-sizing: border-box\; background-color: transparent\; color: rgb(24\, 74\, 108)\; text-decoration-line: none\; word-break: break-word\;" target="_blank">St. Michaels Running Company&#39\;s Holiday Hustle</a></strong>\, a scenic 5k Run/Walk along St. Michaels Nature Trail (weather permitting).&nbsp\;</span></span></div>\n\n<div dir="auto" style="box-sizing: border-box\; font-family: &quot\;Open Sans&quot\;\, sans-serif\; font-size: 16px\;">&nbsp\;</div>\n\n<div dir="auto" style="box-sizing: border-box\; font-family: &quot\;Open Sans&quot\;\, sans-serif\; font-size: 16px\;">\n<p style="box-sizing: border-box\; margin: 0px 0px 10px\;"><span style="box-sizing: border-box\;"><span style="box-sizing: border-box\; font-family: arial\, helvetica\, sans-serif\;">New this year\, the elves will put on a special event during the day from 1pm - 4pm at St. Luke&#39\;s Church which will include a Cookie Contest &amp\; Bake Sale and Ugly Sweater Contest for humans and dogs!&nbsp\; &nbsp\;There will also be a jewelry sale at St.&nbsp\;Luke&#39\;s Church.</span></span></p>\n\n<p style="box-sizing: border-box\; margin: 0px 0px 10px\;"><span style="box-sizing: border-box\;"><span style="box-sizing: border-box\; font-family: arial\, helvetica\, sans-serif\;">As day turns to night\, St. Michaels becomes a beautiful twinkling Christmas Village.&nbsp\;&nbsp\;</span></span><span style="box-sizing: border-box\;"><span style="box-sizing: border-box\; font-family: arial\, helvetica\, sans-serif\;">Shops will be open late with refreshments and snacks\, and special sales during Midnight Madness\, plus&nbsp\;each purchase at participating businesses gives you a chance&nbsp\;to win raffle prizes valued at over $15\,000. &nbsp\; Look for Midnight Madness sponsor posters at your favorite shop\, restaurant or lodging locations.</span></span><br style="box-sizing: border-box\;" />\n<br style="box-sizing: border-box\;" />\n<span style="box-sizing: border-box\;"><span style="box-sizing: border-box\; font-family: arial\, helvetica\, sans-serif\;"><strong style="box-sizing: border-box\;">Drawings start at 11:00pm at The Galley Restaurant and&nbsp\;participants must be present&nbsp\;to win.</strong></span></span></p>\n</div>\n\n<div dir="auto" style="box-sizing: border-box\; font-family: &quot\;Open Sans&quot\;\, sans-serif\; font-size: 16px\;"><span style="box-sizing: border-box\; font-family: arial\, helvetica\, sans-serif\;">Thanks to the many participating Midnight Madness sponsors and donations from businesses\, Midnight Madness would not happen without them!&nbsp\;</span></div>\n\n<p style="box-sizing: border-box\; margin: 0px 0px 10px\; font-family: &quot\;Open Sans&quot\;\, sans-serif\; font-size: 16px\;"><span style="font-size:16px\;"><span style="font-family:arial\;"><a href="https://www.facebook.com/pages/Midnight-Madness-in-St-Michaels-Maryland/143578392328810" style="font-size: 14px\; font-family: sans-serif\, Arial\, Verdana\, &quot\;Trebuchet MS&quot\;\; line-height: 20.8px\;">Like Midnight Madness on Facebook</a></span></span></p>\n
LOCATION:
UID:e.212.21846
SEQUENCE:3
DTSTAMP:20260423T104817Z
URL:http://historic.stmichaelsmd.org/events/details/midnight-madness-december-3-2022-21846
END:VEVENT

END:VCALENDAR
