BEGIN:VCALENDAR
VERSION:2.0
PRODID:-//ChamberMaster//Event Calendar 2.0//EN
METHOD:PUBLISH
X-PUBLISHED-TTL:P3D
REFRESH-INTERVAL:P3D
CALSCALE:GREGORIAN
BEGIN:VEVENT
DTSTART:20191004T140000Z
DTEND:20191005T210000Z
X-MICROSOFT-CDO-ALLDAYEVENT:FALSE
SUMMARY:Mid-Atlantic Small Craft Festival XXXVI
DESCRIPTION:Small craft\, Big fun! \nOn Friday & Saturday\, October 4 & 5\, 2019\, the Chesapeake Bay Maritime Museum will host one of the nation's largest gatherings of small boat enthusiasts and unique watercraft at the Mid-Atlantic Small Craft Festival XXXVI.\n\nHundreds of amateur and professional boatbuilders and enthusiasts come from all over the region to display their one-of-a-kind kayaks\, canoes\, and other traditional small craft.
X-ALT-DESC;FMTTYPE=text/html:Small craft\, Big fun!&nbsp\;\n<p>On Friday &amp\; Saturday\, October&nbsp\;4 &amp\; 5\, 2019\, the Chesapeake Bay Maritime Museum will host one of the nation&rsquo\;s largest gatherings of small boat enthusiasts and unique watercraft at the Mid-Atlantic Small Craft Festival XXXVI.</p>\n\n<p>Hundreds of amateur and professional boatbuilders and enthusiasts come from all over the region to display their one-of-a-kind kayaks\, canoes\, and other traditional small craft.</p>\n<br />\n<br />\n&nbsp\;
LOCATION:Chesapeake Bay Maritime Museum 213 N. Talbot Street St. Michaels\, MD 21663
UID:e.212.16840
SEQUENCE:3
DTSTAMP:20260425T215658Z
URL:http://historic.stmichaelsmd.org/events/details/mid-atlantic-small-craft-festival-xxxvi-16840
END:VEVENT

END:VCALENDAR
