BEGIN:VCALENDAR
VERSION:2.0
PRODID:-//ChamberMaster//Event Calendar 2.0//EN
METHOD:PUBLISH
X-PUBLISHED-TTL:P3D
REFRESH-INTERVAL:P3D
CALSCALE:GREGORIAN
BEGIN:VEVENT
DTSTART:20230816T200000Z
DTEND:20230816T220000Z
X-MICROSOFT-CDO-ALLDAYEVENT:FALSE
SUMMARY:Margarita Madness at The Old Brick Inn
DESCRIPTION:The Old Brick Inn is excited to host La Catrina and Los Hermanos Tequila for our Margarita Madness on August 16th! We're even more excited to have Donta Henson\, one of the founders of Los Hermanos\, join us as he takes us through his journey of mastering the art of making tequila! Salud!\n\n\n\n~Stay at the Inn during this time and the tasting is included! \n\n\n\n~$50 for our local friends!
X-ALT-DESC;FMTTYPE=text/html:<h2 style="text-align:center">The Old Brick Inn is&nbsp\;excited to host La Catrina and Los Hermanos Tequila for our Margarita Madness on August 16th! We&rsquo\;re even more excited to have Donta Henson\, one of the founders of Los Hermanos\, join us as he takes us through his journey of mastering the art of making tequila! Salud!<br />\n<br />\n~Stay at the Inn during this time and the tasting is included!&nbsp\;<br />\n<br />\n~$50 for our local friends!</h2>\n<br />\n&nbsp\;
LOCATION:
UID:e.212.24042
SEQUENCE:3
DTSTAMP:20260422T230126Z
URL:http://historic.stmichaelsmd.org/events/details/margarita-madness-at-the-old-brick-inn-24042
END:VEVENT

END:VCALENDAR
