BEGIN:VCALENDAR
VERSION:2.0
PRODID:-//ChamberMaster//Event Calendar 2.0//EN
METHOD:PUBLISH
X-PUBLISHED-TTL:P3D
REFRESH-INTERVAL:P3D
CALSCALE:GREGORIAN
BEGIN:VEVENT
DTSTART:20220521T130000Z
DTEND:20220521T180000Z
X-MICROSOFT-CDO-ALLDAYEVENT:FALSE
SUMMARY:Makers Market at St. Michaels Inn
DESCRIPTION:Artisans Market Featuring Hand Made and Hand Crafted Items Including Paintings\, Jewelry\, Woodwork\, Soaps\, Lotions\, Homemade Food Products and Much More!
X-ALT-DESC;FMTTYPE=text/html:Artisans Market Featuring Hand Made and Hand Crafted Items Including Paintings\, Jewelry\, Woodwork\, Soaps\, Lotions\, Homemade Food Products and Much More!&nbsp\;
LOCATION:St Michaels Inn 1228 S Talbot St St Michaels MD
UID:e.212.21037
SEQUENCE:3
DTSTAMP:20260423T214326Z
URL:http://historic.stmichaelsmd.org/events/details/makers-market-at-st-michaels-inn-21037
END:VEVENT

END:VCALENDAR
