BEGIN:VCALENDAR
VERSION:2.0
PRODID:-//ChamberMaster//Event Calendar 2.0//EN
METHOD:PUBLISH
X-PUBLISHED-TTL:P3D
REFRESH-INTERVAL:P3D
CALSCALE:GREGORIAN
BEGIN:VEVENT
DTSTART:20220319T200000Z
DTEND:20220319T230000Z
X-MICROSOFT-CDO-ALLDAYEVENT:FALSE
SUMMARY:Local Flavors Weekend
DESCRIPTION:Join us for a Cocktail Creation Class & Tasting\, and a 5 Course Farm to Table Dinner with Local Drink Pairing. $150 per person\, call Guest Services today at 410-886-2121 to book your ticket!
X-ALT-DESC;FMTTYPE=text/html:Join us for a Cocktail Creation Class &amp\; Tasting\, and a 5 Course Farm to Table Dinner with Local Drink Pairing. $150 per person\, call Guest Services today at 410-886-2121 to book your ticket!&nbsp\;
LOCATION:Wylder Hotel Tilghman Island 21551 Chesapeake House Drive Tilghman\, MD 21671
UID:e.212.20784
SEQUENCE:3
DTSTAMP:20260424T021334Z
URL:http://historic.stmichaelsmd.org/events/details/local-flavors-weekend-03-19-2022-20784
END:VEVENT

END:VCALENDAR
