BEGIN:VCALENDAR
VERSION:2.0
PRODID:-//ChamberMaster//Event Calendar 2.0//EN
METHOD:PUBLISH
X-PUBLISHED-TTL:P3D
REFRESH-INTERVAL:P3D
CALSCALE:GREGORIAN
BEGIN:VEVENT
DTSTART:20201212T230000Z
DTEND:20201213T010000Z
X-MICROSOFT-CDO-ALLDAYEVENT:FALSE
SUMMARY:Lighted Boat Parade- weather permitting
DESCRIPTION:On Saturday\, December 12th at 6pm Christmas in St. Michaels will have a special Lighted Boat Parade through the harbor (weather permitting of course).  Our Christmas in St. Michaels elves will be lighting up the harbor area to make the town festive for the holiday!
X-ALT-DESC;FMTTYPE=text/html:On Saturday\, December 12th at 6pm Christmas in St. Michaels will have a special Lighted Boat Parade through the harbor (weather permitting of course).&nbsp\; Our Christmas in St. Michaels elves will be lighting up the harbor area to make the town festive for the holiday!
LOCATION:
UID:e.212.19438
SEQUENCE:3
DTSTAMP:20260424T232430Z
URL:http://historic.stmichaelsmd.org/events/details/lighted-boat-parade-weather-permitting-19438
END:VEVENT

END:VCALENDAR
