BEGIN:VCALENDAR
VERSION:2.0
PRODID:-//ChamberMaster//Event Calendar 2.0//EN
METHOD:PUBLISH
X-PUBLISHED-TTL:P3D
REFRESH-INTERVAL:P3D
CALSCALE:GREGORIAN
BEGIN:VEVENT
DTSTART:20220703T200000Z
DTEND:20220703T230000Z
X-MICROSOFT-CDO-ALLDAYEVENT:FALSE
SUMMARY:John Belser\, LIVE @ Foxy's!
DESCRIPTION:St Michaels native John Belser will be here for your listening pleasure.\n\nKick back\, relax\, and enjoy the musical stylings of yet another talented LOCAL musician.
X-ALT-DESC;FMTTYPE=text/html:<span style="background-color:rgb(255\, 255\, 255)\; color:rgb(5\, 5\, 5)\; font-family:segoe ui historic\,segoe ui\,helvetica\,arial\,sans-serif\; font-size:15px">St Michaels native John Belser will be here for your listening pleasure.</span><br />\n<span style="background-color:rgb(255\, 255\, 255)\; color:rgb(5\, 5\, 5)\; font-family:segoe ui historic\,segoe ui\,helvetica\,arial\,sans-serif\; font-size:15px">Kick back\, relax\, and enjoy the musical stylings of yet another talented LOCAL musician.</span>
LOCATION:Foxy's Harbor Grille
UID:e.212.21100
SEQUENCE:3
DTSTAMP:20260423T182034Z
URL:http://historic.stmichaelsmd.org/events/details/john-belser-live-foxy-s-21100
END:VEVENT

END:VCALENDAR
