BEGIN:VCALENDAR
VERSION:2.0
PRODID:-//ChamberMaster//Event Calendar 2.0//EN
METHOD:PUBLISH
X-PUBLISHED-TTL:P3D
REFRESH-INTERVAL:P3D
CALSCALE:GREGORIAN
BEGIN:VEVENT
DTSTART:20220713T210000Z
DTEND:20220714T000000Z
X-MICROSOFT-CDO-ALLDAYEVENT:FALSE
SUMMARY:Joe Hickey\, LIVE @ Foxys!
DESCRIPTION:The multi-talented Joe brings the heat with acoustic music in your face & a fiery performance that's sure to make you want to get up and dance!
X-ALT-DESC;FMTTYPE=text/html:The multi-talented Joe brings the heat with acoustic music in your face &amp\; a fiery performance that&#39\;s sure to make you want to get up and dance!
LOCATION:Foxy's Harbor Grille
UID:e.212.21715
SEQUENCE:3
DTSTAMP:20260423T182105Z
URL:http://historic.stmichaelsmd.org/events/details/joe-hickey-live-foxys-21715
END:VEVENT

END:VCALENDAR
