BEGIN:VCALENDAR
VERSION:2.0
PRODID:-//ChamberMaster//Event Calendar 2.0//EN
METHOD:PUBLISH
X-PUBLISHED-TTL:P3D
REFRESH-INTERVAL:P3D
CALSCALE:GREGORIAN
BEGIN:VEVENT
DTSTART:20231021T140000Z
DTEND:20231021T180000Z
X-MICROSOFT-CDO-ALLDAYEVENT:FALSE
SUMMARY:Jewelry Sale at St. Luke's Church
DESCRIPTION:St. Luke's United Methodist Church will be holding it's Jewelry sale during the Fall into St. Michaels events from 10am - 2pm
X-ALT-DESC;FMTTYPE=text/html:<span style="font-size:14px\;"><font color="#000000" face="arial\, helvetica\, sans-serif">St. Luke&#39\;s United Methodist Church will be holding it&#39\;s Jewelry sale during the Fall into St. Michaels events from 10am - 2pm</font></span>
LOCATION:St. Luke's United Methodist Church 304 S. Talbot Street
UID:e.212.24463
SEQUENCE:3
DTSTAMP:20260422T171125Z
URL:http://historic.stmichaelsmd.org/events/details/jewelry-sale-at-st-luke-s-church-24463
END:VEVENT

END:VCALENDAR
