BEGIN:VCALENDAR
VERSION:2.0
PRODID:-//ChamberMaster//Event Calendar 2.0//EN
METHOD:PUBLISH
X-PUBLISHED-TTL:P3D
REFRESH-INTERVAL:P3D
CALSCALE:GREGORIAN
BEGIN:VEVENT
DTSTART:20220701T210000Z
DTEND:20220702T000000Z
X-MICROSOFT-CDO-ALLDAYEVENT:FALSE
SUMMARY:Jeff Washington\, LIVE @ Foxy's!
DESCRIPTION:Kick off your 4th of July weekend with Jazzy Jeff Washington.\n\nA Vocalist\, Songwriter\, and\, keyboardist Jeff is the whole package! A master of all modern musical styles with a diverse set of Funk\, Blues\, Jazz\, Rock\, and R&B. His shows are always a great time!
X-ALT-DESC;FMTTYPE=text/html:<div>Kick off your 4th of July weekend with Jazzy Jeff Washington.</div>\n\n<div>A Vocalist\, Songwriter\, and\, keyboardist Jeff is the whole package! A master of all modern musical styles with a diverse set of Funk\, Blues\, Jazz\, Rock\, and R&amp\;B. His shows are always a great time!</div>\n
LOCATION:Foxy's Harbor Grille
UID:e.212.21099
SEQUENCE:3
DTSTAMP:20260423T195910Z
URL:http://historic.stmichaelsmd.org/events/details/jeff-washington-live-foxy-s-21099
END:VEVENT

END:VCALENDAR
