BEGIN:VCALENDAR
VERSION:2.0
PRODID:-//ChamberMaster//Event Calendar 2.0//EN
METHOD:PUBLISH
X-PUBLISHED-TTL:P3D
REFRESH-INTERVAL:P3D
CALSCALE:GREGORIAN
BEGIN:VEVENT
DTSTART:20240803T143000Z
DTEND:20240803T193000Z
X-MICROSOFT-CDO-ALLDAYEVENT:FALSE
SUMMARY:Italian Summer Salads Cooking Class & Paired Wines with Chef Dawn and Bobbi Parlett
DESCRIPTION:Learn how to prepare 3 Italian Style summer salads with Chef Dawn then enjoy them with paired wines chosen by Bobbi! Two Sessions Available!\nLove to cook and drink Italian wine? Want to learn how to prepare delicious Italian Summer Salads? Join us Saturday August 3rd in one of two seatings offered starting at 10:30am with Chef Dawn and Owner Bobbi Parlett. This will be a special learning and tasting experience of awesome food and wine. \n\nAs Chef Dawn shows you how to prepare our 3 courses\, Bobbi will introduce the paired wines. We will surely have another fun and informative experience. There are 2 seatings: 10:30am and 1:30pm. Hope to see you for this event in our Trattoria Simpatico at 104 Railroad Ave. Salute!
X-ALT-DESC;FMTTYPE=text/html:<span style="color:rgb(0\, 0\, 0)\; font-family:avenir-lt-w01_35-light1475496\,avenir-lt-w05_35-light\,sans-serif\; font-size:16px">Learn how to prepare 3 Italian Style summer salads with Chef Dawn then enjoy them with paired wines chosen by Bobbi! Two Sessions Available!</span>\n<p><strong>Love to cook and drink Italian wine? Want to learn how to prepare delicious Italian Summer Salads? Join us Saturday August 3rd in one of two seatings offered starting at 10:30am with Chef Dawn and Owner Bobbi Parlett. This will be a special learning and tasting experience of awesome food and wine.&nbsp\;</strong></p>\n\n<p><strong>As Chef Dawn shows you how to prepare our 3 courses\, Bobbi will introduce the paired wines. We will surely have another fun and informative experience. There are 2 seatings: 10:30am and 1:30pm. Hope to see you for this event in our Trattoria Simpatico at 104 Railroad Ave. Salute!&nbsp\;</strong></p>\n
LOCATION:Trattoria Simpatico 104 Railroad Ave St Michaels\, MD 21663
UID:e.212.29753
SEQUENCE:3
DTSTAMP:20260421T233043Z
URL:http://historic.stmichaelsmd.org/events/details/italian-summer-salads-cooking-class-paired-wines-with-chef-dawn-and-bobbi-parlett-29753
END:VEVENT

END:VCALENDAR
