BEGIN:VCALENDAR
VERSION:2.0
PRODID:-//ChamberMaster//Event Calendar 2.0//EN
METHOD:PUBLISH
X-PUBLISHED-TTL:P3D
REFRESH-INTERVAL:P3D
CALSCALE:GREGORIAN
BEGIN:VEVENT
DTSTART:20190901T213000Z
DTEND:20190901T230000Z
X-MICROSOFT-CDO-ALLDAYEVENT:FALSE
SUMMARY:Island Music Cocktail Cruise- Special Sunday Cruise
DESCRIPTION:Special Sunday evening Island Music Cocktail Cruise about The Patriot\, from 5:30 p.m. to 7:00 p.m. \n\nWith a little Jimmy Buffet and Bob Marley music being played by the Captain (who knows he might even sing a little or hand you the mic) while cruising on the beautiful Miles and Wye Rivers\, The Island Music Cocktail cruise is a romantic way to start your Saturday evening.  Cost is $29.50. We have Craft Beers\, Fine Wines and Speciality Cocktails for purchase at our bar.  A minimum of ten passengers is required. There are no discounted tickets for Children on this cruise due to the limited availability of these tickets.  Purchase your tickets here.
X-ALT-DESC;FMTTYPE=text/html:<span style="color:rgb(0\, 0\, 153)\; font-family:verdana\,arial\,helvetica\,sans-serif\; font-size:16px">Special Sunday evening Island Music Cocktail Cruise about The Patriot\, from 5:30 p.m. to 7:00 p.m.&nbsp\;<br />\nWith a little Jimmy Buffet and Bob Marley music being played by the&nbsp\;Captain&nbsp\;(who knows he might even sing a little or hand you the mic) while cruising on the beautiful Miles and Wye Rivers\, The Island Music Cocktail cruise is a romantic way to start your Saturday evening. &nbsp\;Cost is $29.50. We have Craft Beers\, Fine Wines and Speciality Cocktails for purchase at our bar. &nbsp\;A minimum of ten passengers is required.&nbsp\;There are no discounted tickets for Children on this cruise due to the limited availability of these tickets. &nbsp\;Purchase your tickets <a href="https://patriotcruises.com/buy-tickets/" target="_blank">here.</a></span>
LOCATION:The Patriot is located on the harbor next to the Crab Claw Restaurant. You park at the Chesapeake Bay Maritime Museum and follow the Crabs painted on the walkway to the Patriot Ticket booth.
UID:e.212.13380
SEQUENCE:3
DTSTAMP:20260425T234535Z
URL:http://historic.stmichaelsmd.org/events/details/island-music-cocktail-cruise-special-sunday-cruise-september-2-2018-13380
END:VEVENT

END:VCALENDAR
