BEGIN:VCALENDAR
VERSION:2.0
PRODID:-//ChamberMaster//Event Calendar 2.0//EN
METHOD:PUBLISH
X-PUBLISHED-TTL:P3D
REFRESH-INTERVAL:P3D
CALSCALE:GREGORIAN
BEGIN:VEVENT
DTSTART:20240120T150000Z
DTEND:20240120T190000Z
X-MICROSOFT-CDO-ALLDAYEVENT:FALSE
SUMMARY:Hunters Breakfast
DESCRIPTION:Join us at The Oaks for a Hunters Breakfast.  Every Saturday\, Starting December 23\, 2023 - January 27\, 2024\n\nOrder from our Specialty Menu which includes both Breakfast and Lunch Selections.  Full Open Bar\, Bottomless Bloody Mary's $30 and Televised Football Available.
X-ALT-DESC;FMTTYPE=text/html:Join us at The Oaks for a Hunters Breakfast.&nbsp\; Every Saturday\, Starting December 23\, 2023 - January 27\, 2024<br />\nOrder from our Specialty Menu which includes both Breakfast and Lunch Selections.&nbsp\; Full Open Bar\, Bottomless Bloody Mary&#39\;s $30 and Televised Football Available.&nbsp\;&nbsp\;
LOCATION:The Oaks 25876 Royal Oak Road Royal Oak\, MD 21662
UID:e.212.24614
SEQUENCE:3
DTSTAMP:20260422T104244Z
URL:http://historic.stmichaelsmd.org/events/details/hunters-breakfast-01-20-2024-24614
END:VEVENT

END:VCALENDAR
