BEGIN:VCALENDAR
VERSION:2.0
PRODID:-//ChamberMaster//Event Calendar 2.0//EN
METHOD:PUBLISH
X-PUBLISHED-TTL:P3D
REFRESH-INTERVAL:P3D
CALSCALE:GREGORIAN
BEGIN:VEVENT
DTSTART:20230304T140000Z
DTEND:20230304T150000Z
X-MICROSOFT-CDO-ALLDAYEVENT:FALSE
SUMMARY:Hot Chocolate 5K during St. Michaels ChocolateFest
DESCRIPTION:Join St. Michaels Running Company for a fun morning run or walk as part of Chocolatefest in St. Michaels during the Hot Chocolate 5k.\n\nThe course starts and finishes at St. Michaels Running Co. with an out and back on the nature trail. Finish in our backyard with some hot chocolate and treats!
X-ALT-DESC;FMTTYPE=text/html:<span style="color: rgb(85\, 85\, 85)\; font-family: Roboto\, &quot\;Helvetica Neue&quot\;\, Helvetica\, sans-serif\; font-size: 16.8px\;">Join St. Michaels Running Company for a fun morning run or walk as part of Chocolatefest in St. Michaels during the Hot Chocolate 5k.<br />\nThe course starts and finishes at St. Michaels Running Co. with an out and back on the nature trail. Finish in our backyard with some hot chocolate and treats!&nbsp\;</span>
LOCATION:104 N. Talbot St. Saint Michaels\, MD US 21663
UID:e.212.23332
SEQUENCE:3
DTSTAMP:20260423T055723Z
URL:http://historic.stmichaelsmd.org/events/details/hot-chocolate-5k-during-st-michaels-chocolatefest-23332
END:VEVENT

END:VCALENDAR
