BEGIN:VCALENDAR
VERSION:2.0
PRODID:-//ChamberMaster//Event Calendar 2.0//EN
METHOD:PUBLISH
X-PUBLISHED-TTL:P3D
REFRESH-INTERVAL:P3D
CALSCALE:GREGORIAN
BEGIN:VEVENT
DTSTART:20231118T170000Z
DTEND:20231118T220000Z
X-MICROSOFT-CDO-ALLDAYEVENT:FALSE
SUMMARY:He's Back! Cooking Class & Wines Pairing with Doria Wines at Simpatico - Mangia!
DESCRIPTION:Since our first class was so well received\, we were able to book Marco Doria for a second class before he goes back to Italy. Marco will teach us how to make the famous Carbonara Pasta with paired wines from Marco and Cristina's Micro Wineries for a 3 course/3 wines small plate tasting experience!
X-ALT-DESC;FMTTYPE=text/html:<span style="color:rgb(0\, 0\, 0)\; font-family:avenir-lt-w01_35-light1475496\,avenir-lt-w05_35-light\,sans-serif\; font-size:16px">Since our first class was so well received\, we were able to book Marco Doria for a second class before he goes back to Italy. Marco will teach us how to make the famous Carbonara Pasta with paired wines from Marco and Cristina&#39\;s Micro Wineries for a 3 course/3 wines small plate tasting experience!</span>
LOCATION:Simpatico\, Italy's Finest 104 Railroad Ave St Michaels\, MD 21663
UID:e.212.24475
SEQUENCE:3
DTSTAMP:20260422T135433Z
URL:http://historic.stmichaelsmd.org/events/details/he-s-back-cooking-class-wines-pairing-with-doria-wines-at-simpatico-mangia-24475
END:VEVENT

END:VCALENDAR
