BEGIN:VCALENDAR
VERSION:2.0
PRODID:-//ChamberMaster//Event Calendar 2.0//EN
METHOD:PUBLISH
X-PUBLISHED-TTL:P3D
REFRESH-INTERVAL:P3D
CALSCALE:GREGORIAN
BEGIN:VEVENT
DTSTART:20201204T230000Z
DTEND:20201204T233000Z
X-MICROSOFT-CDO-ALLDAYEVENT:FALSE
SUMMARY:Grand Illumination @ 6pm
DESCRIPTION:New for 2020 Midnight Madness is the town wide Festival of Trees and the first "Grand Illumination" throughout the Town of St. Michaels on Friday at 6pm\, when businesses and residents will simultaneously turn on their holiday lights & decorations as Christ Church bells ring Christmas carols.    \n\nFoxy's Harbor Grille will also kick off their Festival of Lights\, a drive thru light display which will be on display every weekend in December.
X-ALT-DESC;FMTTYPE=text/html:<p><span style="font-family: &quot\;Open Sans&quot\;\, sans-serif\; font-size: 16px\;">New for 2020 Midnight Madness is the town wide Festival of Trees and the first &ldquo\;Grand Illumination&rdquo\; throughout the Town of St. Michaels on Friday at 6pm\, when businesses and residents will simultaneously turn on their holiday lights &amp\; decorations as Christ Church bells ring Christmas carols.&nbsp\; &nbsp\;&nbsp\;<br />\nFoxy&#39\;s Harbor Grille will also kick off their Festival of Lights\, a drive thru light display which will be on display every weekend in December.&nbsp\;</span><br />\n&nbsp\;</p>\n\n<p>&nbsp\;</p>\n
LOCATION:
UID:e.212.19447
SEQUENCE:3
DTSTAMP:20260425T010653Z
URL:http://historic.stmichaelsmd.org/events/details/grand-illumination-6pm-19447
END:VEVENT

END:VCALENDAR
