BEGIN:VCALENDAR
VERSION:2.0
PRODID:-//ChamberMaster//Event Calendar 2.0//EN
METHOD:PUBLISH
X-PUBLISHED-TTL:P3D
REFRESH-INTERVAL:P3D
CALSCALE:GREGORIAN
BEGIN:VEVENT
DTSTART:20200321T140000Z
DTEND:20200321T190000Z
X-MICROSOFT-CDO-ALLDAYEVENT:FALSE
SUMMARY:From the Heart Mart at SMCC
DESCRIPTION:From the Heart Mart in St. Michaels each Saturday\n\nThe crafts and creations of independent artists\, hobbyists\, crafters\, and more are now at the St. Michaels Community Center from 10   3 p.m. each Saturday as part of the community center's new From the Heart Mart. The indoor artisans market takes place at SMCC's 103 Railroad Ave. location in St. Michaels\, Md.\, and continues through Mar. 21\, 2020.\n\n \n\nTable fees from the weekly market benefit the local children and adults served by SMCC's food distribution\, programs\, and activities. The St. Michaels Community Center's mission is to promote and provide quality activities and services that will contribute to the physical\, emotional\, and social well-being of the community.\n\n \n\nDonations to SMCC and proceeds from the Treasure Cove Thrift Shop in St. Michaels\, Md. help the nonprofit provide year-round programs\, services and community events for people from throughout the Bay Hundred area. More information\, including vendor applications for the From the Heart Mart is at stmichaelscc.org.
X-ALT-DESC;FMTTYPE=text/html:<p class="yiv0177102664MsoNormal" style="color: rgb(29\, 34\, 40)\; margin: 0in 0in 8pt\; line-height: 15.6933px\; font-size: 11pt\; font-family: Calibri\, sans-serif\;"><span style="font-family:arial\;"><span style="font-size: 14pt\; line-height: 19.9733px\;">From the Heart Mart in St. Michaels each Saturday</span></span></p>\n\n<p class="yiv0177102664MsoNormal" style="color: rgb(29\, 34\, 40)\; margin: 0in 0in 0.0001pt\; line-height: 15.6933px\; font-size: 11pt\; font-family: Calibri\, sans-serif\;"><span style="font-family:arial\;">The crafts and creations of independent artists\, hobbyists\, crafters\, and more are now at the St. Michaels Community Center from 10 &ndash\; 3 p.m. each Saturday as part of the community center&rsquo\;s new From the Heart Mart. The indoor artisans market takes place at SMCC&rsquo\;s 103 Railroad Ave. location in St. Michaels\, Md.\, and continues through Mar. 21\, 2020.</span></p>\n\n<p class="yiv0177102664MsoNormal" style="color: rgb(29\, 34\, 40)\; margin: 0in 0in 0.0001pt\; line-height: 15.6933px\; font-size: 11pt\; font-family: Calibri\, sans-serif\;"><span style="font-family:arial\;">&nbsp\;</span></p>\n\n<p class="yiv0177102664MsoNormal" style="color: rgb(29\, 34\, 40)\; margin: 0in 0in 0.0001pt\; line-height: 15.6933px\; font-size: 11pt\; font-family: Calibri\, sans-serif\;"><span style="font-family:arial\;">Table fees from the weekly market benefit the local children and adults served by SMCC&rsquo\;s food distribution\, programs\, and activities. The St. Michaels Community Center&rsquo\;s mission is to promote and provide quality activities and services that will contribute to the physical\, emotional\, and social well-being of the community.</span></p>\n\n<p class="yiv0177102664MsoNormal" style="color: rgb(29\, 34\, 40)\; margin: 0in 0in 0.0001pt\; line-height: 15.6933px\; font-size: 11pt\; font-family: Calibri\, sans-serif\;"><span style="font-family:arial\;">&nbsp\;</span></p>\n\n<p class="yiv0177102664MsoNormal" style="color: rgb(29\, 34\, 40)\; margin: 0in 0in 0.0001pt\; line-height: 15.6933px\; font-size: 11pt\; font-family: Calibri\, sans-serif\;"><span style="font-family:arial\;">Donations to SMCC and proceeds from the Treasure Cove Thrift Shop in St. Michaels\, Md. help the nonprofit provide year-round programs\, services and community events for people from throughout the Bay Hundred area. More information\, including vendor applications for the From the Heart Mart is at&nbsp\;<span class="yiv0177102664gmail-MsoHyperlink" style="color: rgb(5\, 99\, 193)\; text-decoration-line: underline\;"><span style="color: windowtext\;"><a href="http://www.stmichaelscc.org/" rel="nofollow" style="color: rgb(5\, 99\, 193)\;" target="_blank"><span style="color: windowtext\;">stmichaelscc.org</span></a></span></span>.</span></p>\n
LOCATION:103 Railroad Ave St. Michaels\, MD 21663
UID:e.212.19398
SEQUENCE:3
DTSTAMP:20260425T134757Z
URL:http://historic.stmichaelsmd.org/events/details/from-the-heart-mart-at-smcc-03-21-2020-19398
END:VEVENT

END:VCALENDAR
