BEGIN:VCALENDAR
VERSION:2.0
PRODID:-//ChamberMaster//Event Calendar 2.0//EN
METHOD:PUBLISH
X-PUBLISHED-TTL:P3D
REFRESH-INTERVAL:P3D
CALSCALE:GREGORIAN
BEGIN:VEVENT
DTSTART:20231016T210000Z
DTEND:20231017T000000Z
X-MICROSOFT-CDO-ALLDAYEVENT:FALSE
SUMMARY:French Wine Dinner at The Fool's Lantern
DESCRIPTION:Join us October 16th as we sample and learn about wines from various regions of France. Tim O'Hare\, an expert sommelier with Charm City Wine School\, will lead you through a tasting of six 1.5 oz. wines paired with cheeses. Dinner will follow\, including seafood lasagna made with shrimp and scallops layered with noodles\, ricotta\, mozzarella\, parmesan\, and our house made marinara sauce\, caesar salad\, and garlic bread. Dinner also includes one 6 oz. glass of your choice of wines from the tasting. We will finish the night with dessert and a special dessert wine tasting.\n\n\n\nThis event is $65 per person and is limited to 42 people. Click on the link below to reserve your spot today! Please email thefoolslantern@gmail.com with any questions. https://www.eventcreate.com/e/thefoolslanternwinedinner
X-ALT-DESC;FMTTYPE=text/html:<span style="color:rgb(0\, 0\, 0)\; font-family:nunito sans\,sans-serif\; font-size:19px">Join us October 16th as we sample and learn about wines from various regions of France. Tim O&#39\;Hare\, an expert sommelier with Charm City Wine School\, will lead you through a tasting of six 1.5 oz. wines paired with cheeses. Dinner will follow\, including seafood lasagna made with shrimp and scallops layered with noodles\, ricotta\, mozzarella\, parmesan\, and our house made marinara sauce\, caesar salad\, and garlic bread. Dinner also includes one 6 oz. glass of your choice of wines from the tasting. We will finish the night with dessert and a special dessert wine tasting.</span><br />\n<br />\n<span style="color:rgb(0\, 0\, 0)\; font-family:nunito sans\,sans-serif\; font-size:19px">This event is $65 per person and is limited to 42 people. Click on the link below to reserve your spot today! Please email&nbsp\;</span><a href="mailto:thefoolslantern@gmail.com" rel="nofollow" style="color: rgb(51\, 73\, 153)\; box-sizing: border-box\; margin: 0px\; padding: 0px\; background-image: initial\; background-position: 0px 0px\; background-size: initial\; background-repeat: initial\; background-attachment: initial\; background-origin: initial\; background-clip: initial\; text-decoration-line: none\; cursor: pointer\; user-select: auto\; font-family: &quot\;nunito sans&quot\;\, sans-serif\; font-size: 19px\;">thefoolslantern@gmail.com</a><span style="color:rgb(0\, 0\, 0)\; font-family:nunito sans\,sans-serif\; font-size:19px">&nbsp\;with any questions.&nbsp\;<a href="https://www.eventcreate.com/e/thefoolslanternwinedinner">https://www.eventcreate.com/e/thefoolslanternwinedinner</a></span>
LOCATION:The Fool's Lantern 310 S. Talbot Street St. Michaels\, MD 21663
UID:e.212.24054
SEQUENCE:3
DTSTAMP:20260422T152127Z
URL:http://historic.stmichaelsmd.org/events/details/french-wine-dinner-at-the-fool-s-lantern-24054
END:VEVENT

END:VCALENDAR
