BEGIN:VCALENDAR
VERSION:2.0
PRODID:-//ChamberMaster//Event Calendar 2.0//EN
METHOD:PUBLISH
X-PUBLISHED-TTL:P3D
REFRESH-INTERVAL:P3D
CALSCALE:GREGORIAN
BEGIN:VEVENT
DTSTART:20231020T200000Z
DTEND:20231020T220000Z
X-MICROSOFT-CDO-ALLDAYEVENT:FALSE
SUMMARY:FOXY'S YAPPY HOUR
DESCRIPTION:Kick off Wag-O-Ween at Foxy's "Yappy Hour"\n\n\n\nEnjoy drink specials\, doggie treats\, and our dog friendly menu with your pup from 4:00pm-6:00pm!
X-ALT-DESC;FMTTYPE=text/html:Kick off Wag-O-Ween at Foxy&#39\;s &quot\;Yappy Hour&quot\;<br />\n<br />\nEnjoy drink specials\, doggie treats\, and our dog friendly menu with your pup from 4:00pm-6:00pm!
LOCATION:
UID:e.212.24455
SEQUENCE:3
DTSTAMP:20260422T154759Z
URL:http://historic.stmichaelsmd.org/events/details/foxy-s-yappy-hour-24455
END:VEVENT

END:VCALENDAR
