BEGIN:VCALENDAR
VERSION:2.0
PRODID:-//ChamberMaster//Event Calendar 2.0//EN
METHOD:PUBLISH
X-PUBLISHED-TTL:P3D
REFRESH-INTERVAL:P3D
CALSCALE:GREGORIAN
BEGIN:VEVENT
DTSTART:20231020T210000Z
DTEND:20231021T020000Z
X-MICROSOFT-CDO-ALLDAYEVENT:FALSE
SUMMARY:FOXY'S BLUES\, BREWS\, & BBQ
DESCRIPTION:Join us for a day of live music (Jeff Washington)\, specialty beers\, & in-house smoked BBQ specials!\n\n\n\nFood & Drinks Start @ 5:00pm\n\n\n\nJeff Washington 7:00PM-10:00PM
X-ALT-DESC;FMTTYPE=text/html:Join us for a day of live music (Jeff Washington)\, specialty beers\, &amp\; in-house smoked BBQ specials!<br />\n<br />\nFood &amp\; Drinks Start @ 5:00pm<br />\n<br />\nJeff Washington 7:00PM-10:00PM
LOCATION:
UID:e.212.24456
SEQUENCE:3
DTSTAMP:20260422T152027Z
URL:http://historic.stmichaelsmd.org/events/details/foxy-s-blues-brews-bbq-24456
END:VEVENT

END:VCALENDAR
