BEGIN:VCALENDAR
VERSION:2.0
PRODID:-//ChamberMaster//Event Calendar 2.0//EN
METHOD:PUBLISH
X-PUBLISHED-TTL:P3D
REFRESH-INTERVAL:P3D
CALSCALE:GREGORIAN
BEGIN:VEVENT
DTSTART:20231015T180000Z
DTEND:20231015T210000Z
X-MICROSOFT-CDO-ALLDAYEVENT:FALSE
SUMMARY:FOXY'S BIRD DOG & THE ROAD KINGS
DESCRIPTION:Celebrate Bird Dog and the Road Kings at Foxy' to honor their 50 year anniversary. \n\n\n\nLocation: Foxy's Harbor Grille patio\n\n\n\nTime: 2:00pm-5:00pm
X-ALT-DESC;FMTTYPE=text/html:Celebrate Bird Dog and the Road Kings at Foxy&#39\; to honor their 50 year anniversary.&nbsp\;<br />\n<br />\nLocation: Foxy&#39\;s Harbor Grille patio<br />\n<br />\nTime: 2:00pm-5:00pm
LOCATION:
UID:e.212.24454
SEQUENCE:3
DTSTAMP:20260422T152407Z
URL:http://historic.stmichaelsmd.org/events/details/foxy-s-bird-dog-the-road-kings-24454
END:VEVENT

END:VCALENDAR
