BEGIN:VCALENDAR
VERSION:2.0
PRODID:-//ChamberMaster//Event Calendar 2.0//EN
METHOD:PUBLISH
X-PUBLISHED-TTL:P3D
REFRESH-INTERVAL:P3D
CALSCALE:GREGORIAN
BEGIN:VEVENT
DTSTART:20231028T200000Z
DTEND:20231029T020000Z
X-MICROSOFT-CDO-ALLDAYEVENT:FALSE
SUMMARY:FOXY'S 4TH ANNUAL SCAVENGER HUNT
DESCRIPTION:FOXY'S 4TH ANNUAL SCAVENGER HUNT!\n\n\n\nSign up details to come
X-ALT-DESC;FMTTYPE=text/html:FOXY&#39\;S 4TH ANNUAL SCAVENGER HUNT!<br />\n<br />\nSign up details to come<br />\n&nbsp\;
LOCATION:
UID:e.212.24457
SEQUENCE:3
DTSTAMP:20260422T152849Z
URL:http://historic.stmichaelsmd.org/events/details/foxy-s-4th-annual-scavenger-hunt-24457
END:VEVENT

END:VCALENDAR
