BEGIN:VCALENDAR
VERSION:2.0
PRODID:-//ChamberMaster//Event Calendar 2.0//EN
METHOD:PUBLISH
X-PUBLISHED-TTL:P3D
REFRESH-INTERVAL:P3D
CALSCALE:GREGORIAN
BEGIN:VEVENT
DTSTART:20210704T013000Z
DTEND:20210704T020000Z
X-MICROSOFT-CDO-ALLDAYEVENT:FALSE
SUMMARY:Fireworks in the Harbor
DESCRIPTION:2021 Fireworks in St. Michaels Harbor!\n\nSaturday\, July 3\, 2021. Bring your lawn chairs and find a good spot in town! Or\, come by boat and anchor out in the Miles River! \n\nThe rain date for the concert and fireworks is Sunday\, July 4.
X-ALT-DESC;FMTTYPE=text/html:<span style="font-family:times new roman\;"><strong style="margin: 0px\; padding: 0px\; color: rgb(32\, 28\, 87)\; font-family: georgia\, arial\; font-size: 17px\;">2021 Fireworks in St. Michaels Harbor</strong><span style="color: rgb(32\, 28\, 87)\; font-size: 17px\;">!<br />\nSaturday\, July 3\, 2021. Bring your lawn chairs and find a good spot in town! Or\, come by boat and anchor out in the Miles River!&nbsp\;</span><br />\n<span style="font-size: 14px\;">The rain date for the concert and fireworks is Sunday\, July 4.</span></span>
LOCATION:St. Michaels harbor
UID:e.212.19818
SEQUENCE:3
DTSTAMP:20260424T140629Z
URL:http://historic.stmichaelsmd.org/events/details/fireworks-in-the-harbor-19818
END:VEVENT

END:VCALENDAR
