BEGIN:VCALENDAR
VERSION:2.0
PRODID:-//ChamberMaster//Event Calendar 2.0//EN
METHOD:PUBLISH
X-PUBLISHED-TTL:P3D
REFRESH-INTERVAL:P3D
CALSCALE:GREGORIAN
BEGIN:VEVENT
DTSTART:20231021T160000Z
DTEND:20231021T210000Z
X-MICROSOFT-CDO-ALLDAYEVENT:FALSE
SUMMARY:Fall Into St Michaels-Free Wine Tasting with Filippo Lapides\, Brand Ambassador for Enovation Brands!
DESCRIPTION:Fall Into St Michaels-Free Wine Tasting with Filippo Lapides\, Brand Ambassador for Enovation Brands!
X-ALT-DESC;FMTTYPE=text/html:<h1 style="text-align:center">Fall Into St Michaels-Free Wine Tasting with Filippo Lapides\, Brand Ambassador for Enovation Brands!</h1>\n
LOCATION:Simpatico Italy's Finest 104 Railroad Ave St Michaels\, MD 21663
UID:e.212.24467
SEQUENCE:3
DTSTAMP:20260422T155257Z
URL:http://historic.stmichaelsmd.org/events/details/fall-into-st-michaels-free-wine-tasting-with-filippo-lapides-brand-ambassador-for-enovation-brands-24467
END:VEVENT

END:VCALENDAR
