BEGIN:VCALENDAR
VERSION:2.0
PRODID:-//ChamberMaster//Event Calendar 2.0//EN
METHOD:PUBLISH
X-PUBLISHED-TTL:P3D
REFRESH-INTERVAL:P3D
CALSCALE:GREGORIAN
BEGIN:VEVENT
DTSTART:20190810T140000Z
DTEND:20190810T230000Z
X-MICROSOFT-CDO-ALLDAYEVENT:FALSE
SUMMARY:ENDLESS SUMMER SALE EVENT at Ophiuroidea "The O"
DESCRIPTION:ENDLESS SUMMER SALE EVENT at Ophiuroidea in our new location in the heart of St. Michaels!\n\nThe first annual Endless Summer Sale for those of you dreading the cold... we say Cheers to The Endless Summer frame of mind on Saturday\, August 10th from 10 am - 7 pm\n\nCome check out all our sales with summer clothing and other summer gear up to 50% off!
X-ALT-DESC;FMTTYPE=text/html:<div style="color: rgb(29\, 34\, 40)\; font-family: &quot\;Helvetica Neue&quot\;\, Helvetica\, Arial\, sans-serif\;">ENDLESS SUMMER SALE EVENT at Ophiuroidea&nbsp\;in our new location in the heart of St. Michaels!<br />\n<span style="color: rgb(28\, 30\, 33)\; font-family: Helvetica\, Arial\, sans-serif\; font-size: 14px\;">The first annual Endless Summer Sale for those of you dreading the cold... we say Cheers to The Endless Summer frame of mind on Saturday\, August 10th from 10 am - 7 pm</span><br style="color: rgb(28\, 30\, 33)\; font-family: Helvetica\, Arial\, sans-serif\; font-size: 14px\;" />\n<span style="color: rgb(28\, 30\, 33)\; font-family: Helvetica\, Arial\, sans-serif\; font-size: 14px\;">Come check out all our sales with summer clothing and other summer gear up to 50% off!</span></div>\n
LOCATION:100 S. Talbot Street St. Michaels\, MD 21663
UID:e.212.19346
SEQUENCE:3
DTSTAMP:20260426T012725Z
URL:http://historic.stmichaelsmd.org/events/details/endless-summer-sale-event-at-ophiuroidea-the-o-19346
END:VEVENT

END:VCALENDAR
