BEGIN:VCALENDAR
VERSION:2.0
PRODID:-//ChamberMaster//Event Calendar 2.0//EN
METHOD:PUBLISH
X-PUBLISHED-TTL:P3D
REFRESH-INTERVAL:P3D
CALSCALE:GREGORIAN
BEGIN:VEVENT
DTSTART;VALUE=DATE:20220902
DTEND;VALUE=DATE:20220907
TRANSP:TRANSPARENT
X-MICROSOFT-CDO-ALLDAYEVENT:TRUE
SUMMARY:End of Summer SALE 20-50% OFF Storewide
DESCRIPTION:Silver Linings is a sterling silver and gemstone jewelry store in the heart of St. Michaels. We feature many nautical designs\, and other stunning pieces. For Labor Day Weekend we are having a storewide sale where everything is 20-50% off! Come browse and find a good deal on a beautiful new piece of jewelry for yourself\, or a gift.
X-ALT-DESC;FMTTYPE=text/html:Silver Linings is a sterling silver and gemstone jewelry store in the heart of St. Michaels. We feature many nautical designs\, and other stunning pieces. For Labor Day Weekend we are having a storewide sale where everything is 20-50% off! Come browse and find a good deal on a beautiful new piece of jewelry for yourself\, or a gift.
LOCATION:Silver Linings 203 S Talbot Street St. Michaels\, MD 21663
UID:e.212.21844
SEQUENCE:3
DTSTAMP:20260423T152939Z
URL:http://historic.stmichaelsmd.org/events/details/end-of-summer-sale-20-50-off-storewide-21844
END:VEVENT

END:VCALENDAR
