BEGIN:VCALENDAR
VERSION:2.0
PRODID:-//ChamberMaster//Event Calendar 2.0//EN
METHOD:PUBLISH
X-PUBLISHED-TTL:P3D
REFRESH-INTERVAL:P3D
CALSCALE:GREGORIAN
BEGIN:VEVENT
DTSTART:20240421T020000Z
DTEND:20240421T200000Z
X-MICROSOFT-CDO-ALLDAYEVENT:FALSE
SUMMARY:Eastern Shore Sea Glass and Coastal Arts Festival April 20-21\, 2024
DESCRIPTION:The Eastern Shore Sea Glass and Coastal Arts Festival brings more than 90 artisans to the campus of the Chesapeake Bay Maritime Museum many from the local Delmarva area\, and others traveling from as far away as California who will exhibit and sell coastal and sea-glass related jewelry\, home d cor\, art\, and more.\n\nAdmission to the festival includes all CBMM exhibits\, live music and much more.\n\nVisit website for tickets\, list of participating artisans and schedule of events.  www.seaglassfestival.com
X-ALT-DESC;FMTTYPE=text/html:<span style="font-size:14px\;"><span style="font-family:arial\;"><span font-size:="" helvetica="">The Eastern Shore Sea Glass and Coastal Arts Festival brings more than 90 artisans to the campus of the Chesapeake Bay Maritime Museum&mdash\;many from the local Delmarva area\, and others traveling from as far away as California&mdash\;who will exhibit and sell coastal and sea-glass related jewelry\, home d&eacute\;cor\, art\, and more.</span><br />\n<font style="font-size: 14px\;">Admission to the festival includes all CBMM exhibits\, live music and much more.</font><br style="font-size: 14px\; box-sizing: border-box\; font-family: Calibri\, Verdana\, Geneva\, sans-serif\;" />\n<span font-size:="" helvetica="">Visit website for tickets\, list of participating artisans and schedule of events.&nbsp\;&nbsp\;</span></span><a href="http://www.seaglassfestival.com" target="_blank"><span style="font-family:arial\;">www.seagl</span>assfestival.com</a></span>
LOCATION:Chesapeake Bay Maritime Museum
UID:e.212.24470
SEQUENCE:3
DTSTAMP:20260422T061232Z
URL:http://historic.stmichaelsmd.org/events/details/eastern-shore-sea-glass-and-coastal-arts-festival-april-20-21-2024-24470
END:VEVENT

END:VCALENDAR
