BEGIN:VCALENDAR
VERSION:2.0
PRODID:-//ChamberMaster//Event Calendar 2.0//EN
METHOD:PUBLISH
X-PUBLISHED-TTL:P3D
REFRESH-INTERVAL:P3D
CALSCALE:GREGORIAN
BEGIN:VEVENT
DTSTART:20220313T020000Z
DTEND:20220313T040000Z
X-MICROSOFT-CDO-ALLDAYEVENT:FALSE
SUMMARY:Dinner & Dancing
DESCRIPTION:Live Band & Dance Floor 9pm-11pm! Bar Snacks\, $2- 10oz Beers & 1/2 off Drafts at Bar Mumbo
X-ALT-DESC;FMTTYPE=text/html:Live Band &amp\; Dance Floor 9pm-11pm! Bar Snacks\, $2- 10oz Beers &amp\; 1/2 off Drafts at Bar Mumbo&nbsp\;
LOCATION:Wylder Hotel Tilghman Island 21551 Chesapeake House Drive Tilghman\, MD 21671
UID:e.212.20780
SEQUENCE:3
DTSTAMP:20260424T004300Z
URL:http://historic.stmichaelsmd.org/events/details/dinner-dancing-03-12-2022-20780
END:VEVENT

END:VCALENDAR
