BEGIN:VCALENDAR
VERSION:2.0
PRODID:-//ChamberMaster//Event Calendar 2.0//EN
METHOD:PUBLISH
X-PUBLISHED-TTL:P3D
REFRESH-INTERVAL:P3D
CALSCALE:GREGORIAN
BEGIN:VEVENT
DTSTART;VALUE=DATE:20220319
DTEND;VALUE=DATE:20220417
TRANSP:TRANSPARENT
X-MICROSOFT-CDO-ALLDAYEVENT:TRUE
SUMMARY:Daffodil Days
DESCRIPTION:The 2022 Daffodil Days will consist of a Self-Guided Tour of the tens of thousands of Daffodils planted throughout our lovely historic town! \n\n \n\nDaffodil Days scheduled annually in Late March - Early April\,\n\nis a celebration of over 25\,000 daffodils throughout the town\n\nin 2017 with over 50\,000 since then! \n\n \n\nSt. Michaels Community groups\, merchants\, and residents are encouraged to show support through the display of daffodils
X-ALT-DESC;FMTTYPE=text/html:<p class="font_7" style="margin: 0px\; padding: 0px\; border: 0px\; outline: 0px\; vertical-align: baseline\; background: transparent\; pointer-events: auto\; font-size: 18px\; color: rgb(var(--color_14))\;"><span style="margin: 0px\; padding: 0px\; border: 0px\; outline: 0px\; vertical-align: baseline\; background: transparent\;"><span class="color_33" style="margin: 0px\; padding: 0px\; border: 0px\; outline: 0px\; vertical-align: baseline\; background: transparent\; color: rgb(var(--color_33))\;"><span style="margin: 0px\; padding: 0px\; border: 0px\; outline: 0px\; vertical-align: baseline\; background: transparent\;"><span style="margin: 0px\; padding: 0px\; border: 0px\; outline: 0px\; vertical-align: baseline\; background: transparent\; font-weight: bold\;">The 2022 Daffodil Days will consist of a Self-Guided Tour of the tens of thousands of Daffodils planted&nbsp\;</span><span style="margin: 0px\; padding: 0px\; border: 0px\; outline: 0px\; vertical-align: baseline\; background: transparent\; font-weight: bold\;">throughout our lovely historic town!&nbsp\;</span></span></span></span></p>\n\n<p class="font_7" style="margin: 0px\; padding: 0px\; border: 0px\; outline: 0px\; vertical-align: baseline\; background: transparent\; pointer-events: auto\; font-size: 16px\; color: rgb(var(--color_14))\;"><span style="margin: 0px\; padding: 0px\; border: 0px\; outline: 0px\; vertical-align: baseline\; background: transparent\;"><span style="margin: 0px\; padding: 0px\; border: 0px\; outline: 0px\; vertical-align: baseline\; background: transparent\; color: rgb(242\, 102\, 143)\; font-size: 18px\; font-weight: bold\;">&#8203\;</span></span></p>\n\n<p class="font_7" style="margin: 0px\; padding: 0px\; border: 0px\; outline: 0px\; vertical-align: baseline\; background: transparent\; pointer-events: auto\; font-size: 16px\; line-height: 1.3em\; color: rgb(var(--color_14))\;"><span class="color_14" style="margin: 0px\; padding: 0px\; border: 0px\; outline: 0px\; vertical-align: baseline\; background: transparent\; color: rgb(var(--color_14))\;"><span style="margin: 0px\; padding: 0px\; border: 0px\; outline: 0px\; vertical-align: baseline\; background: transparent\; font-family: museo-slab-w01-100\, serif\;">Daffodil Days scheduled annually in Late March - Early April\,</span></span></p>\n\n<p class="font_7" style="margin: 0px\; padding: 0px\; border: 0px\; outline: 0px\; vertical-align: baseline\; background: transparent\; pointer-events: auto\; font-size: 16px\; line-height: 1.3em\; color: rgb(var(--color_14))\;"><span style="margin: 0px\; padding: 0px\; border: 0px\; outline: 0px\; vertical-align: baseline\; background: transparent\;"><span class="color_14" style="margin: 0px\; padding: 0px\; border: 0px\; outline: 0px\; vertical-align: baseline\; background: transparent\; color: rgb(var(--color_14))\;"><span style="margin: 0px\; padding: 0px\; border: 0px\; outline: 0px\; vertical-align: baseline\; background: transparent\;"><span style="margin: 0px\; padding: 0px\; border: 0px\; outline: 0px\; vertical-align: baseline\; background: transparent\; font-family: museo-slab-w01-100\, serif\;">is a celebration of over 25\,000 daffodils throughout the town</span></span></span></span></p>\n\n<p class="font_7" style="margin: 0px\; padding: 0px\; border: 0px\; outline: 0px\; vertical-align: baseline\; background: transparent\; pointer-events: auto\; font-size: 16px\; line-height: 1.3em\; color: rgb(var(--color_14))\;"><span style="margin: 0px\; padding: 0px\; border: 0px\; outline: 0px\; vertical-align: baseline\; background: transparent\;"><span class="color_14" style="margin: 0px\; padding: 0px\; border: 0px\; outline: 0px\; vertical-align: baseline\; background: transparent\; color: rgb(var(--color_14))\;"><span style="margin: 0px\; padding: 0px\; border: 0px\; outline: 0px\; vertical-align: baseline\; background: transparent\;"><span style="margin: 0px\; padding: 0px\; border: 0px\; outline: 0px\; vertical-align: baseline\; background: transparent\; font-family: museo-slab-w01-100\, serif\;">in 2017 with over 50\,000 since then!&nbsp\;</span></span></span></span></p>\n\n<p class="font_7" style="margin: 0px\; padding: 0px\; border: 0px\; outline: 0px\; vertical-align: baseline\; background: transparent\; pointer-events: auto\; font-size: 16px\; line-height: 1.3em\; color: rgb(var(--color_14))\;">&nbsp\;</p>\n\n<p class="font_7" style="margin: 0px\; padding: 0px\; border: 0px\; outline: 0px\; vertical-align: baseline\; background: transparent\; pointer-events: auto\; font-size: 16px\; line-height: 1.3em\; color: rgb(var(--color_14))\;"><span style="margin: 0px\; padding: 0px\; border: 0px\; outline: 0px\; vertical-align: baseline\; background: transparent\;"><span class="color_14" style="margin: 0px\; padding: 0px\; border: 0px\; outline: 0px\; vertical-align: baseline\; background: transparent\; color: rgb(var(--color_14))\;"><span style="margin: 0px\; padding: 0px\; border: 0px\; outline: 0px\; vertical-align: baseline\; background: transparent\;"><span style="margin: 0px\; padding: 0px\; border: 0px\; outline: 0px\; vertical-align: baseline\; background: transparent\; font-family: museo-slab-w01-100\, serif\;"><span style="margin: 0px\; padding: 0px\; border: 0px\; outline: 0px\; vertical-align: baseline\; background: transparent\;"><span style="margin: 0px\; padding: 0px\; border: 0px\; outline: 0px\; vertical-align: baseline\; background: transparent\;">St. Michaels Community&nbsp\;</span></span></span></span></span><span class="color_14" style="margin: 0px\; padding: 0px\; border: 0px\; outline: 0px\; vertical-align: baseline\; background: transparent\; color: rgb(var(--color_14))\;"><span style="margin: 0px\; padding: 0px\; border: 0px\; outline: 0px\; vertical-align: baseline\; background: transparent\;"><span style="margin: 0px\; padding: 0px\; border: 0px\; outline: 0px\; vertical-align: baseline\; background: transparent\; font-family: museo-slab-w01-100\, serif\;"><span style="margin: 0px\; padding: 0px\; border: 0px\; outline: 0px\; vertical-align: baseline\; background: transparent\;"><span style="margin: 0px\; padding: 0px\; border: 0px\; outline: 0px\; vertical-align: baseline\; background: transparent\;">groups\,&nbsp\;</span></span></span></span></span><span class="color_14" style="margin: 0px\; padding: 0px\; border: 0px\; outline: 0px\; vertical-align: baseline\; background: transparent\; color: rgb(var(--color_14))\;"><span style="margin: 0px\; padding: 0px\; border: 0px\; outline: 0px\; vertical-align: baseline\; background: transparent\;"><span style="margin: 0px\; padding: 0px\; border: 0px\; outline: 0px\; vertical-align: baseline\; background: transparent\; font-family: museo-slab-w01-100\, serif\;"><span style="margin: 0px\; padding: 0px\; border: 0px\; outline: 0px\; vertical-align: baseline\; background: transparent\;"><span style="margin: 0px\; padding: 0px\; border: 0px\; outline: 0px\; vertical-align: baseline\; background: transparent\;">merchants\, and residents are encouraged to show support&nbsp\;</span></span></span></span></span><span class="color_14" style="margin: 0px\; padding: 0px\; border: 0px\; outline: 0px\; vertical-align: baseline\; background: transparent\; color: rgb(var(--color_14))\;"><span style="margin: 0px\; padding: 0px\; border: 0px\; outline: 0px\; vertical-align: baseline\; background: transparent\;"><span style="margin: 0px\; padding: 0px\; border: 0px\; outline: 0px\; vertical-align: baseline\; background: transparent\; font-family: museo-slab-w01-100\, serif\;"><span style="margin: 0px\; padding: 0px\; border: 0px\; outline: 0px\; vertical-align: baseline\; background: transparent\;"><span style="margin: 0px\; padding: 0px\; border: 0px\; outline: 0px\; vertical-align: baseline\; background: transparent\;">through&nbsp\;</span></span></span></span></span><span class="color_14" style="margin: 0px\; padding: 0px\; border: 0px\; outline: 0px\; vertical-align: baseline\; background: transparent\; color: rgb(var(--color_14))\;"><span style="margin: 0px\; padding: 0px\; border: 0px\; outline: 0px\; vertical-align: baseline\; background: transparent\;"><span style="margin: 0px\; padding: 0px\; border: 0px\; outline: 0px\; vertical-align: baseline\; background: transparent\; font-family: museo-slab-w01-100\, serif\;"><span style="margin: 0px\; padding: 0px\; border: 0px\; outline: 0px\; vertical-align: baseline\; background: transparent\;"><span style="margin: 0px\; padding: 0px\; border: 0px\; outline: 0px\; vertical-align: baseline\; background: transparent\;">the display of daffodils</span></span></span></span></span></span></p>\n\n<p class="font_8" style="margin: 0px\; padding: 0px\; border: 0px\; outline: 0px\; vertical-align: baseline\; background: transparent\; pointer-events: auto\; font-size: 14px\; color: rgb(0\, 0\, 0)\;">&nbsp\;</p>\n
LOCATION:
UID:e.212.20794
SEQUENCE:3
DTSTAMP:20260423T230725Z
URL:http://historic.stmichaelsmd.org/events/details/daffodil-days-20794
END:VEVENT

END:VCALENDAR
