BEGIN:VCALENDAR
VERSION:2.0
PRODID:-//ChamberMaster//Event Calendar 2.0//EN
METHOD:PUBLISH
X-PUBLISHED-TTL:P3D
REFRESH-INTERVAL:P3D
CALSCALE:GREGORIAN
BEGIN:VEVENT
DTSTART:20231230T170000Z
DTEND:20231230T223000Z
X-MICROSOFT-CDO-ALLDAYEVENT:FALSE
SUMMARY:Cooking Demo & Wine Pairing with Russ Lorber of Wide Roots and Our Resident Chef
DESCRIPTION:Cooking Demo & Wine Pairing with Russ Lorber of Wide Roots and Our Resident Chef\n\nLove to cook and drink Italian wine? Join us Saturday Dec. 30th for a Pre-New Year's Celebration with Guest Russ Lorber\, Owner of Wide Roots along with our Resident Chef in our MANGIA building at 104 Railroad Ave for a special Lombardy Region tasting event. \n\n \n\nAs Russ takes you on a virtual tour of the Lombardy region with 4 fabulous Nebbiolos and 3 small plate food pairings\, Chef Dawn will describe the foods and share the recipes. We will surely have another fun and informative experience in this pre-New Year's event! Hope to see you for another informative and delicious Italian experience.\n\n \n\nThere are 3 seatings at 12PM\, 2PM & 4PM - Click below for more info and to reserve your seats!\n\n \n\nSee You There! Salute!
X-ALT-DESC;FMTTYPE=text/html:<h1 style="text-align:center"><a href="https://www.simpaticostmichaels.com/events-1/4-fabulous-nebbiolo-wines-with-3-small-plates-pre-new-years-celebration-3-seatings-noon-2-pm-and-4-pm" style="font-size: 18px\; color: rgb(191\, 63\, 47)\; font-family: Tahoma\, Geneva\, sans-serif\;" target="_blank">Cooking Demo &amp\; Wine Pairing with Russ Lorber of Wide Roots and Our Resident Chef</a></h1>\n\n<p style="text-align:center"><strong>Love to cook and drink Italian wine? Join us Saturday Dec. 30th for a Pre-New Year&#39\;s Celebration with Guest Russ Lorber\, Owner of Wide Roots along with our Resident Chef in our MANGIA building at 104 Railroad Ave for a special Lombardy Region tasting event.&nbsp\;</strong></p>\n\n<p>&nbsp\;</p>\n\n<p style="text-align:center"><strong>As Russ takes you on a virtual tour of the Lombardy region with 4 fabulous Nebbiolos and 3 small plate food pairings\, Chef Dawn will describe the foods and share the recipes.&nbsp\;We will surely have another fun and informative experience in this pre-New Year&#39\;s event! Hope to see you for another informative and delicious Italian experience.</strong></p>\n\n<p style="text-align:center">&nbsp\;</p>\n\n<p style="text-align:center"><a href="https://www.simpaticostmichaels.com/events-1/4-fabulous-nebbiolo-wines-with-3-small-plates-pre-new-years-celebration-3-seatings-noon-2-pm-and-4-pm" style="font-size: 16px\; color: rgb(191\, 63\, 47)\; font-family: Tahoma\, Geneva\, sans-serif\; font-weight: bold\;" target="_blank">There are 3 seatings at 12PM\, 2PM &amp\; 4PM - Click below for more info and to reserve your seats!</a></p>\n\n<p style="text-align:center">&nbsp\;</p>\n\n<p style="text-align:center"><strong>See You There! Salute!</strong></p>\n
LOCATION:Simpatico\, Italy's Finest \, 104 Railroad Ave\, St Michaels\, MD 21663
UID:e.212.24617
SEQUENCE:3
DTSTAMP:20260422T123138Z
URL:http://historic.stmichaelsmd.org/events/details/cooking-demo-wine-pairing-with-russ-lorber-of-wide-roots-and-our-resident-chef-24617
END:VEVENT

END:VCALENDAR
