BEGIN:VCALENDAR
VERSION:2.0
PRODID:-//ChamberMaster//Event Calendar 2.0//EN
METHOD:PUBLISH
X-PUBLISHED-TTL:P3D
REFRESH-INTERVAL:P3D
CALSCALE:GREGORIAN
BEGIN:VEVENT
DTSTART:20240210T170000Z
DTEND:20240210T230000Z
X-MICROSOFT-CDO-ALLDAYEVENT:FALSE
SUMMARY:Cooking Demo 3 seatings/3 Courses/3 Wines with Marco from Doria Wines & Our Chef Dawn
DESCRIPTION:Cooking Demo 3 seatings/3 Courses/3 Wines with Marco from Doria Wines & Our Chef Dawn\nMarco is back! Travel to the Veneto region of Italy with Valpolicellas including Amarone\, with Marco Doria of Doria Wines! Marco will talk about the wines & pairings while you see him prepare the 2nd course. Mangia!
X-ALT-DESC;FMTTYPE=text/html:<h1 style="text-align:center">Cooking Demo 3 seatings/3 Courses/3 Wines with Marco from Doria Wines &amp\; Our Chef Dawn</h1>\n<span style="color:rgb(0\, 0\, 0)\; font-family:avenir-lt-w01_35-light1475496\,avenir-lt-w05_35-light\,sans-serif\; font-size:16px">Marco is back! Travel to the Veneto region of Italy with Valpolicellas including Amarone\, with Marco Doria of Doria Wines! Marco will talk about the wines &amp\; pairings while you see him prepare the 2nd course. Mangia!</span>
LOCATION:Simpatico\, Italy's Finest \, 104 Railroad Ave\, St Michaels\, MD 21663
UID:e.212.25227
SEQUENCE:3
DTSTAMP:20260422T091406Z
URL:http://historic.stmichaelsmd.org/events/details/cooking-demo-3-seatings-3-courses-3-wines-with-marco-from-doria-wines-our-chef-dawn-25227
END:VEVENT

END:VCALENDAR
