BEGIN:VCALENDAR
VERSION:2.0
PRODID:-//ChamberMaster//Event Calendar 2.0//EN
METHOD:PUBLISH
X-PUBLISHED-TTL:P3D
REFRESH-INTERVAL:P3D
CALSCALE:GREGORIAN
BEGIN:VEVENT
DTSTART:20240302T140000Z
DTEND:20240302T160000Z
X-MICROSOFT-CDO-ALLDAYEVENT:FALSE
SUMMARY:Coastal Run Hot Chocolate 5K
DESCRIPTION:Get ready to heat up the chilly March mornings with the Coastal Run Hot Chocolate 5K! Dash through the charming streets of St. Michaels\, MD\, and cross the finish line for a toasty treat. Register now at runsignup.com/Race/MD/SaintMichaels/HotChoc5k and secure your free hot chocolate and mug on March 2nd at 9 AM. Let's make those miles memorable!
X-ALT-DESC;FMTTYPE=text/html:<span style="background-color:rgb(255\, 255\, 255)\; color:rgb(5\, 5\, 5)\; font-family:segoe ui historic\,segoe ui\,helvetica\,arial\,sans-serif\; font-size:15px">Get ready to heat up the chilly March mornings with the Coastal Run Hot Chocolate 5K! Dash through the charming streets of St. Michaels\, MD\, and cross the finish line for a toasty treat. Register now at </span><span style="background-color:rgb(255\, 255\, 255)\; color:rgb(5\, 5\, 5)\; font-family:segoe ui historic\,segoe ui\,helvetica\,arial\,sans-serif\; font-size:15px"><a class="x1i10hfl xjbqb8w x1ejq31n xd10rxx x1sy0etr x17r0tee x972fbf xcfux6l x1qhh985 xm0m39n x9f619 x1ypdohk xt0psk2 xe8uvvx xdj266r x11i5rnm xat24cr x1mh8g0r xexx8yu x4uap5 x18d9i69 xkhd6sd x16tdsg8 x1hl2dhg xggy1nq x1a2a7pz xt0b8zv x1fey0fg" href="http://runsignup.com/Race/MD/SaintMichaels/HotChoc5k?fbclid=IwAR0-DvOjrAcTMxLOuwNFcpJwP4iIhSdZeWu1o_0Uexuo07I1mmL5J8K4RoY" rel="nofollow noreferrer" style="cursor: pointer\; text-decoration-line: none\; outline: none\; list-style: none\; margin: 0px\; text-align: inherit\; border-style: none\; padding: 0px\; border-width: 0px\; box-sizing: border-box\; background-color: transparent\; display: inline\; -webkit-tap-highlight-color: transparent\; touch-action: manipulation\; font-family: inherit\;" tabindex="0" target="_blank">runsignup.com/Race/MD/SaintMichaels/HotChoc5k</a></span><span style="background-color:rgb(255\, 255\, 255)\; color:rgb(5\, 5\, 5)\; font-family:segoe ui historic\,segoe ui\,helvetica\,arial\,sans-serif\; font-size:15px"> and secure your free hot chocolate and mug on March 2nd at 9 AM. Let&#39\;s make those miles memorable!</span>
LOCATION:Coastal Run St Michaels 205 S Talbot Street St Michaels\, MD 21663 Come around to back parking lot.
UID:e.212.25231
SEQUENCE:3
DTSTAMP:20260422T073811Z
URL:http://historic.stmichaelsmd.org/events/details/coastal-run-hot-chocolate-5k-25231
END:VEVENT

END:VCALENDAR
