BEGIN:VCALENDAR
VERSION:2.0
PRODID:-//ChamberMaster//Event Calendar 2.0//EN
METHOD:PUBLISH
X-PUBLISHED-TTL:P3D
REFRESH-INTERVAL:P3D
CALSCALE:GREGORIAN
BEGIN:VEVENT
DTSTART:20240525T143000Z
DTEND:20240525T153000Z
X-MICROSOFT-CDO-ALLDAYEVENT:FALSE
SUMMARY:CMM Memorial Day Parade
DESCRIPTION:The Classic Motor Museum Memorial Day Parade is Saturday\, May 25th from 10:30 to 11:30 am. Join us in your most patriotic outfit to honor those who made the ultimate sacrifice for our freedom. We will have lots of classic cars\, community groups\, veteran organizations and much more! Remember\, Talbot Street will be closed from 10:30 to 11:30 on the 25th for the parade! Since you cannot go anywhere\, come join the party!
X-ALT-DESC;FMTTYPE=text/html:The Classic Motor Museum Memorial Day Parade is Saturday\, May 25th from 10:30 to 11:30 am. Join us in your most patriotic outfit to honor those who made the ultimate sacrifice for our freedom. We will have lots of classic cars\, community groups\, veteran organizations and much more! Remember\, Talbot Street will be closed from 10:30 to 11:30 on the 25th for the parade! Since you cannot go anywhere\, come join the party!
LOCATION:It starts near Perry Cabin Park on Talbot Street in St. MIchaels\, Maryland and ends at Seymour Avenue.
UID:e.212.25643
SEQUENCE:3
DTSTAMP:20260422T055310Z
URL:http://historic.stmichaelsmd.org/events/details/cmm-memorial-day-parade-25643
END:VEVENT

END:VCALENDAR
