BEGIN:VCALENDAR
VERSION:2.0
PRODID:-//ChamberMaster//Event Calendar 2.0//EN
METHOD:PUBLISH
X-PUBLISHED-TTL:P3D
REFRESH-INTERVAL:P3D
CALSCALE:GREGORIAN
BEGIN:VEVENT
DTSTART:20210703T143000Z
DTEND:20210704T030000Z
X-MICROSOFT-CDO-ALLDAYEVENT:FALSE
SUMMARY:Classic Motor Museum Pre-Independence Day Parade July 3rd
DESCRIPTION:The Classic Motor Museum will hold their Independence Day Parade on Saturday\, July 3\, 2021 from 10:30 am   11:30 am.\n\n The participants will lined up at Perry Cabin Park\, and will head down Talbot St\, pausing for the emcee to announce the make\, model and driver of the vehicle\, through the rest of town\, and ending the parade at the Museum at 102 E Marengo Ave. Where Cars & Coffee will be held\, along with refreshments available for a small donation.\n\nThere is a cap on registrations\, so be sure to get registered today HERE!!!\n\nFor information about events and programs of the Classic Motot museum\, visit www.classicmotormuseum.org.
X-ALT-DESC;FMTTYPE=text/html:<p style="margin: 0px 0px 10px\; padding: 0px 0px 0.5em\; font-family: georgia\; font-size: 17px\; line-height: 20.4px\; color: rgb(32\, 28\, 87)\;">The Classic Motor Museum will hold their Independence Day&nbsp\;Parade&nbsp\;on Saturday\, July 3\, 2021 from 10:30 am &ndash\; 11:30 am.<br />\n&nbsp\;The participants will lined up at Perry Cabin Park\, and will head down Talbot St\, pausing for the emcee to announce the make\, model and driver of the vehicle\, through the rest of town\, and ending the parade at the Museum at 102 E Marengo Ave. Where Cars &amp\; Coffee will be held\, along with refreshments available for a small donation.</p>\n\n<p style="margin: 0px 0px 10px\; padding: 0px 0px 0.5em\; font-family: georgia\; font-size: 17px\; line-height: 20.4px\; color: rgb(32\, 28\, 87)\;">There is a cap on registrations\, so be sure to get registered today&nbsp\;<a href="https://checkout.square.site/buy/3QYWXXF5L5SUGAIMVUYB3HJC" style="margin: 0px\; padding: 0px\; color: rgb(35\, 103\, 162)\; outline: 0px\; text-decoration-line: none\; font-family: roboto\, georgia\, arial\;">HERE!!!</a></p>\n\n<p style="margin: 0px 0px 10px\; padding: 0px 0px 0.5em\; font-family: georgia\; font-size: 17px\; line-height: 20.4px\; color: rgb(32\, 28\, 87)\;">For information about events and programs of the Classic Motot museum\, visit&nbsp\;<a href="https://www.classicmotormuseum.org/" style="margin: 0px\; padding: 0px\; color: rgb(35\, 103\, 162)\; outline: 0px\; text-decoration-line: none\; font-family: roboto\, georgia\, arial\;">www.classicmotormuseum.org</a>.</p>\n\n<h1 style="margin: 0px 0px 10px\; padding: 10px 0px 0px 10px\; clear: both\; color: rgb(32\, 28\, 87)\; font-family: georgia\; font-size: 30px\; line-height: 36px\;">&nbsp\;</h1>\n
LOCATION:
UID:e.212.19817
SEQUENCE:3
DTSTAMP:20260424T124219Z
URL:http://historic.stmichaelsmd.org/events/details/classic-motor-museum-pre-independence-day-parade-july-3rd-19817
END:VEVENT

END:VCALENDAR
