BEGIN:VCALENDAR
VERSION:2.0
PRODID:-//ChamberMaster//Event Calendar 2.0//EN
METHOD:PUBLISH
X-PUBLISHED-TTL:P3D
REFRESH-INTERVAL:P3D
CALSCALE:GREGORIAN
BEGIN:VEVENT
DTSTART:20191213T150000Z
DTEND:20191213T200000Z
X-MICROSOFT-CDO-ALLDAYEVENT:FALSE
SUMMARY:Christmas Train Village - SMCC
DESCRIPTION:Date: December 13-18\, 2019\, 10 a.m. to 3 p.m.\n\nLocation: St. Michaels Community Center\n\nSt. Michaels Community Center plays host to the Annual Christmas Train Village Display\, Gift Sale and Holiday Baked Goods\, open to the public from December 13 through December 18 from 10am   3pm daily. Baked goods and crafts will be for sale on Saturday\, the 14th (after the parade) and Sunday\, the 15th. There is no charge to see the trains. Donations are gratefully accepted. Fun for all kids of all ages!!!
X-ALT-DESC;FMTTYPE=text/html:<p style="margin: 0px 0px 10px\; padding: 0px 0px 0.5em\; font-family: georgia\; font-size: 17px\; line-height: 20.4px\; color: rgb(32\, 28\, 87)\;"><strong style="margin: 0px\; padding: 0px\; font-family: georgia\, arial\;">Date:&nbsp\;</strong>December 13-18\, 2019\, 10 a.m. to 3 p.m.<br style="margin: 0px\; padding: 0px\;" />\n<strong style="margin: 0px\; padding: 0px\; font-family: georgia\, arial\;">Location:</strong>&nbsp\;St. Michaels Community Center</p>\n\n<p style="margin: 0px 0px 10px\; padding: 0px 0px 0.5em\; font-family: georgia\; font-size: 17px\; line-height: 20.4px\; color: rgb(32\, 28\, 87)\;">St. Michaels Community Center&nbsp\;plays host to the&nbsp\;Annual Christmas Train Village Display\, Gift Sale and Holiday Baked Goods\, open to the public from December 13 through December 18 from 10am &ndash\; 3pm daily. Baked goods and crafts will be for sale on Saturday\, the 14th (after the parade) and Sunday\, the 15th. There is no charge to see the trains. Donations are gratefully accepted. Fun for all kids of all ages!!!</p>\n
LOCATION:St. Michaels Community Center 103 Railroad Ave St. Michaels\, MD 21663
UID:e.212.19358
SEQUENCE:3
DTSTAMP:20260425T184129Z
URL:http://historic.stmichaelsmd.org/events/details/christmas-train-village-smcc-19358
END:VEVENT

END:VCALENDAR
