BEGIN:VCALENDAR
VERSION:2.0
PRODID:-//ChamberMaster//Event Calendar 2.0//EN
METHOD:PUBLISH
X-PUBLISHED-TTL:P3D
REFRESH-INTERVAL:P3D
CALSCALE:GREGORIAN
BEGIN:VEVENT
DTSTART:20231209T133000Z
DTEND:20231209T200000Z
X-MICROSOFT-CDO-ALLDAYEVENT:FALSE
SUMMARY:Christmas Parade Celebration at Fool's Lantern
DESCRIPTION:Join us on December 9th to celebrate Christmas in St. Michaels! From 8:30 - 10:30 am we will have breakfast sandwiches\, drinks\, and Christmas music out back to get in the holiday spirit. At 10:30\, we'll move out front to watch the Talbot Street Christmas Parade. Afterwards\, come back to The Fool's Lantern for more festive fun and games!\n\nWe are thrilled to partner with Toys for Tots as a drop-off location that day. Spread the joy of the season by bringing a new\, unwrapped toy to donate and receive a complimentary drink at our outside celebration! Your generosity will make a child's Christmas truly special. Join us for an unforgettable day filled with holiday cheer\, delicious food\, and the spirit of giving. We look forward to celebrating with you!
X-ALT-DESC;FMTTYPE=text/html:<p>Join us on December 9th to celebrate Christmas in St. Michaels! From 8:30 - 10:30 am we will have breakfast sandwiches\, drinks\, and Christmas music out back to get in the holiday spirit. At 10:30\, we&#39\;ll move out front to watch the Talbot Street Christmas Parade. Afterwards\, come back to The Fool&#39\;s Lantern for more festive fun and games!</p>\n\n<p>We are thrilled to partner with Toys for Tots as a drop-off location that day. Spread the joy of the season by bringing a new\, unwrapped toy to donate and receive a complimentary drink at our outside celebration! Your generosity will make a child&#39\;s Christmas truly special. Join us for an unforgettable day filled with holiday cheer\, delicious food\, and the spirit of giving. We look forward to celebrating with you!</p>\n
LOCATION:The Fool's Lantern 310 S. Talbot Street St. Michaels\, MD 21663
UID:e.212.24478
SEQUENCE:3
DTSTAMP:20260422T122515Z
URL:http://historic.stmichaelsmd.org/events/details/christmas-parade-celebration-at-fool-s-lantern-24478
END:VEVENT

END:VCALENDAR
